BEGIN:VCALENDAR
VERSION:2.0
PRODID:-//NV Grow - ECPv6.15.20//NONSGML v1.0//EN
CALSCALE:GREGORIAN
METHOD:PUBLISH
X-WR-CALNAME:NV Grow
X-ORIGINAL-URL:https://nvgrow.org
X-WR-CALDESC:Events for NV Grow
REFRESH-INTERVAL;VALUE=DURATION:PT1H
X-Robots-Tag:noindex
X-PUBLISHED-TTL:PT1H
BEGIN:VTIMEZONE
TZID:America/Los_Angeles
BEGIN:DAYLIGHT
TZOFFSETFROM:-0800
TZOFFSETTO:-0700
TZNAME:PDT
DTSTART:20210314T100000
END:DAYLIGHT
BEGIN:STANDARD
TZOFFSETFROM:-0700
TZOFFSETTO:-0800
TZNAME:PST
DTSTART:20211107T090000
END:STANDARD
BEGIN:DAYLIGHT
TZOFFSETFROM:-0800
TZOFFSETTO:-0700
TZNAME:PDT
DTSTART:20220313T100000
END:DAYLIGHT
BEGIN:STANDARD
TZOFFSETFROM:-0700
TZOFFSETTO:-0800
TZNAME:PST
DTSTART:20221106T090000
END:STANDARD
BEGIN:DAYLIGHT
TZOFFSETFROM:-0800
TZOFFSETTO:-0700
TZNAME:PDT
DTSTART:20230312T100000
END:DAYLIGHT
BEGIN:STANDARD
TZOFFSETFROM:-0700
TZOFFSETTO:-0800
TZNAME:PST
DTSTART:20231105T090000
END:STANDARD
END:VTIMEZONE
BEGIN:VEVENT
DTSTART;TZID=America/Los_Angeles:20220501T080000
DTEND;TZID=America/Los_Angeles:20220501T130000
DTSTAMP:20260423T140439
CREATED:20220429T165304Z
LAST-MODIFIED:20220429T165514Z
UID:981-1651392000-1651410000@nvgrow.org
SUMMARY:RUN for Rice & WALK for Wellness\, Sunday\, May 1st
DESCRIPTION:WHEN: Sunday\, May 1\, 2022 \nTIME: 8AM – 1PM \nWHERE: CSN Charleston Campus (6375 W. Charleston Bldv\, LV\, NV 89146) \nREGISTRATION is needed!
URL:https://nvgrow.org/event/run-for-rice-walk-for-wellness-sunday-may-1st/
ATTACH;FMTTYPE=image/png:https://nvgrow.org/wp-content/uploads/2022/04/Run-for-Rice-Walk-for-Wellness-2022-Flyer-Instagram-Post-1.png
END:VEVENT
END:VCALENDAR