BEGIN:VCALENDAR
VERSION:2.0
PRODID:-//NV Grow - ECPv6.15.20//NONSGML v1.0//EN
CALSCALE:GREGORIAN
METHOD:PUBLISH
X-ORIGINAL-URL:https://nvgrow.org
X-WR-CALDESC:Events for NV Grow
REFRESH-INTERVAL;VALUE=DURATION:PT1H
X-Robots-Tag:noindex
X-PUBLISHED-TTL:PT1H
BEGIN:VTIMEZONE
TZID:America/Los_Angeles
BEGIN:DAYLIGHT
TZOFFSETFROM:-0800
TZOFFSETTO:-0700
TZNAME:PDT
DTSTART:20210314T100000
END:DAYLIGHT
BEGIN:STANDARD
TZOFFSETFROM:-0700
TZOFFSETTO:-0800
TZNAME:PST
DTSTART:20211107T090000
END:STANDARD
BEGIN:DAYLIGHT
TZOFFSETFROM:-0800
TZOFFSETTO:-0700
TZNAME:PDT
DTSTART:20220313T100000
END:DAYLIGHT
BEGIN:STANDARD
TZOFFSETFROM:-0700
TZOFFSETTO:-0800
TZNAME:PST
DTSTART:20221106T090000
END:STANDARD
BEGIN:DAYLIGHT
TZOFFSETFROM:-0800
TZOFFSETTO:-0700
TZNAME:PDT
DTSTART:20230312T100000
END:DAYLIGHT
BEGIN:STANDARD
TZOFFSETFROM:-0700
TZOFFSETTO:-0800
TZNAME:PST
DTSTART:20231105T090000
END:STANDARD
END:VTIMEZONE
BEGIN:VEVENT
DTSTART;TZID=America/Los_Angeles:20220624T190000
DTEND;TZID=America/Los_Angeles:20220624T210000
DTSTAMP:20260423T123323
CREATED:20220623T024222Z
LAST-MODIFIED:20220623T024222Z
UID:1091-1656097200-1656104400@nvgrow.org
SUMMARY:Join Eli Milan at The District This Friday\, June 24th\, 7-9PM
DESCRIPTION:
URL:https://nvgrow.org/event/join-eli-milan-at-the-district-this-friday-june-24th-7-9pm/
ATTACH;FMTTYPE=image/jpeg:https://nvgrow.org/wp-content/uploads/2022/06/Gabriel-Interrante-Join-Eli-Milan-for-His-Upcoming-Shows-June-2022-revised.jpg
END:VEVENT
END:VCALENDAR