BEGIN:VCALENDAR
VERSION:2.0
PRODID:-//NV Grow - ECPv6.15.20//NONSGML v1.0//EN
CALSCALE:GREGORIAN
METHOD:PUBLISH
X-ORIGINAL-URL:https://nvgrow.org
X-WR-CALDESC:Events for NV Grow
REFRESH-INTERVAL;VALUE=DURATION:PT1H
X-Robots-Tag:noindex
X-PUBLISHED-TTL:PT1H
BEGIN:VTIMEZONE
TZID:America/Los_Angeles
BEGIN:DAYLIGHT
TZOFFSETFROM:-0800
TZOFFSETTO:-0700
TZNAME:PDT
DTSTART:20210314T100000
END:DAYLIGHT
BEGIN:STANDARD
TZOFFSETFROM:-0700
TZOFFSETTO:-0800
TZNAME:PST
DTSTART:20211107T090000
END:STANDARD
BEGIN:DAYLIGHT
TZOFFSETFROM:-0800
TZOFFSETTO:-0700
TZNAME:PDT
DTSTART:20220313T100000
END:DAYLIGHT
BEGIN:STANDARD
TZOFFSETFROM:-0700
TZOFFSETTO:-0800
TZNAME:PST
DTSTART:20221106T090000
END:STANDARD
BEGIN:DAYLIGHT
TZOFFSETFROM:-0800
TZOFFSETTO:-0700
TZNAME:PDT
DTSTART:20230312T100000
END:DAYLIGHT
BEGIN:STANDARD
TZOFFSETFROM:-0700
TZOFFSETTO:-0800
TZNAME:PST
DTSTART:20231105T090000
END:STANDARD
END:VTIMEZONE
BEGIN:VEVENT
DTSTART;TZID=America/Los_Angeles:20220625T183000
DTEND;TZID=America/Los_Angeles:20220625T203000
DTSTAMP:20260423T123322
CREATED:20220623T024659Z
LAST-MODIFIED:20220623T025300Z
UID:1093-1656181800-1656189000@nvgrow.org
SUMMARY:Sofar Sounds Features Eli Milan In Summerlin This Saturday\, June 25th\, 6:30PM
DESCRIPTION:Sofar Sounds puts on events around the world for up and coming artists.  \nAddress to the venue will be revealed 36 hours before the show. \nClick HERE for more information.
URL:https://nvgrow.org/event/sofar-sounds-features-eli-milan-in-summerlin-this-saturday-june-25th-630pm/
ATTACH;FMTTYPE=image/jpeg:https://nvgrow.org/wp-content/uploads/2022/06/Gabriel-Interrante-Sofar-Sounds.jpg
END:VEVENT
END:VCALENDAR