BEGIN:VCALENDAR
VERSION:2.0
PRODID:-//NV Grow - ECPv6.15.20//NONSGML v1.0//EN
CALSCALE:GREGORIAN
METHOD:PUBLISH
X-WR-CALNAME:NV Grow
X-ORIGINAL-URL:https://nvgrow.org
X-WR-CALDESC:Events for NV Grow
REFRESH-INTERVAL;VALUE=DURATION:PT1H
X-Robots-Tag:noindex
X-PUBLISHED-TTL:PT1H
BEGIN:VTIMEZONE
TZID:America/Los_Angeles
BEGIN:DAYLIGHT
TZOFFSETFROM:-0800
TZOFFSETTO:-0700
TZNAME:PDT
DTSTART:20210314T100000
END:DAYLIGHT
BEGIN:STANDARD
TZOFFSETFROM:-0700
TZOFFSETTO:-0800
TZNAME:PST
DTSTART:20211107T090000
END:STANDARD
BEGIN:DAYLIGHT
TZOFFSETFROM:-0800
TZOFFSETTO:-0700
TZNAME:PDT
DTSTART:20220313T100000
END:DAYLIGHT
BEGIN:STANDARD
TZOFFSETFROM:-0700
TZOFFSETTO:-0800
TZNAME:PST
DTSTART:20221106T090000
END:STANDARD
BEGIN:DAYLIGHT
TZOFFSETFROM:-0800
TZOFFSETTO:-0700
TZNAME:PDT
DTSTART:20230312T100000
END:DAYLIGHT
BEGIN:STANDARD
TZOFFSETFROM:-0700
TZOFFSETTO:-0800
TZNAME:PST
DTSTART:20231105T090000
END:STANDARD
END:VTIMEZONE
BEGIN:VEVENT
DTSTART;TZID=America/Los_Angeles:20220903T140000
DTEND;TZID=America/Los_Angeles:20220903T160000
DTSTAMP:20260423T073547
CREATED:20220902T183956Z
LAST-MODIFIED:20220902T184006Z
UID:1151-1662213600-1662220800@nvgrow.org
SUMMARY:Acoustic Set with Eli Milan (Supporting the Small Businesses in Downtown Las Vegas)
DESCRIPTION:Saturday\, September 3rd\n@ 2:00 PM – 4:00 PM\nFerguson’s Downtown (FREE)\n1028 Fremont St Las Vegas\, NV
URL:https://nvgrow.org/event/acoustic-set-with-eli-milan-supporting-the-small-businesses-in-downtown-las-vegas/
CATEGORIES:Events
ATTACH;FMTTYPE=image/jpeg:https://nvgrow.org/wp-content/uploads/2022/09/Acoustic-Set-with-Eli-Milan-and-Rich-Mann-Gabriel-Interrante-September-2022.jpg
END:VEVENT
END:VCALENDAR