BEGIN:VCALENDAR
VERSION:2.0
PRODID:-//NV Grow - ECPv6.15.20//NONSGML v1.0//EN
CALSCALE:GREGORIAN
METHOD:PUBLISH
X-WR-CALNAME:NV Grow
X-ORIGINAL-URL:https://nvgrow.org
X-WR-CALDESC:Events for NV Grow
REFRESH-INTERVAL;VALUE=DURATION:PT1H
X-Robots-Tag:noindex
X-PUBLISHED-TTL:PT1H
BEGIN:VTIMEZONE
TZID:America/Los_Angeles
BEGIN:DAYLIGHT
TZOFFSETFROM:-0800
TZOFFSETTO:-0700
TZNAME:PDT
DTSTART:20240310T100000
END:DAYLIGHT
BEGIN:STANDARD
TZOFFSETFROM:-0700
TZOFFSETTO:-0800
TZNAME:PST
DTSTART:20241103T090000
END:STANDARD
BEGIN:DAYLIGHT
TZOFFSETFROM:-0800
TZOFFSETTO:-0700
TZNAME:PDT
DTSTART:20250309T100000
END:DAYLIGHT
BEGIN:STANDARD
TZOFFSETFROM:-0700
TZOFFSETTO:-0800
TZNAME:PST
DTSTART:20251102T090000
END:STANDARD
BEGIN:DAYLIGHT
TZOFFSETFROM:-0800
TZOFFSETTO:-0700
TZNAME:PDT
DTSTART:20260308T100000
END:DAYLIGHT
BEGIN:STANDARD
TZOFFSETFROM:-0700
TZOFFSETTO:-0800
TZNAME:PST
DTSTART:20261101T090000
END:STANDARD
END:VTIMEZONE
BEGIN:VEVENT
DTSTART;TZID=America/Los_Angeles:20250109T150000
DTEND;TZID=America/Los_Angeles:20250109T163000
DTSTAMP:20260421T081341
CREATED:20241119T191315Z
LAST-MODIFIED:20241125T184644Z
UID:2267-1736434800-1736440200@nvgrow.org
SUMMARY:Federal Tax Essentials with the IRS - Lesson 2
DESCRIPTION:Lesson 2: Schedule C and other small business taxes  \n·           Qualified Business Income (Section 199A) Deduction \n·           Completing Schedule C Part 1 \n·           Gross Receipts and Returns & Allowances \n·           Cost of goods sold \n·           Gross Profit and Gross Income \n·           Bartering \n·           Completing Schedule C Part II \n·           Car and Truck Expense \n·           Depreciation \n·           Tax Cut and Jobs Act of 2017 – Changes to Expensing and Depreciation \n·           Legal and Professional Services and Office Expenses \n·           Supplies \n·           Travel\, Meals\, and Entertainment \n·           Net Profit or Loss \n·           Possible Deductions on Form 1040 \nRegister here: https://sbed.ecenterdirect.com/events/1019100
URL:https://nvgrow.org/event/federal-tax-essentials-with-the-irs-lesson-2/
CATEGORIES:Events
ATTACH;FMTTYPE=image/webp:https://nvgrow.org/wp-content/uploads/2024/11/tax-v2.webp
END:VEVENT
END:VCALENDAR