BEGIN:VCALENDAR
VERSION:2.0
PRODID:-//NV Grow - ECPv6.15.20//NONSGML v1.0//EN
CALSCALE:GREGORIAN
METHOD:PUBLISH
X-WR-CALNAME:NV Grow
X-ORIGINAL-URL:https://nvgrow.org
X-WR-CALDESC:Events for NV Grow
REFRESH-INTERVAL;VALUE=DURATION:PT1H
X-Robots-Tag:noindex
X-PUBLISHED-TTL:PT1H
BEGIN:VTIMEZONE
TZID:America/Los_Angeles
BEGIN:DAYLIGHT
TZOFFSETFROM:-0800
TZOFFSETTO:-0700
TZNAME:PDT
DTSTART:20240310T100000
END:DAYLIGHT
BEGIN:STANDARD
TZOFFSETFROM:-0700
TZOFFSETTO:-0800
TZNAME:PST
DTSTART:20241103T090000
END:STANDARD
BEGIN:DAYLIGHT
TZOFFSETFROM:-0800
TZOFFSETTO:-0700
TZNAME:PDT
DTSTART:20250309T100000
END:DAYLIGHT
BEGIN:STANDARD
TZOFFSETFROM:-0700
TZOFFSETTO:-0800
TZNAME:PST
DTSTART:20251102T090000
END:STANDARD
BEGIN:DAYLIGHT
TZOFFSETFROM:-0800
TZOFFSETTO:-0700
TZNAME:PDT
DTSTART:20260308T100000
END:DAYLIGHT
BEGIN:STANDARD
TZOFFSETFROM:-0700
TZOFFSETTO:-0800
TZNAME:PST
DTSTART:20261101T090000
END:STANDARD
END:VTIMEZONE
BEGIN:VEVENT
DTSTART;TZID=America/Los_Angeles:20250111T100000
DTEND;TZID=America/Los_Angeles:20250111T120000
DTSTAMP:20260421T081342
CREATED:20250106T202046Z
LAST-MODIFIED:20250106T202046Z
UID:2304-1736589600-1736596800@nvgrow.org
SUMMARY:Basics of Starting A Business
DESCRIPTION:In this session you will learn what it takes to start a business. At the end of this FREE 2-hour session you will be in a better position to decide whether to proceed immediately\, delay starting your business or not start the business. We will discuss: \n• Reasons to Start/Not Start a Business \n• Business Opportunities \n• Business Plans \n• Financing Your Business \n• Marketing \n• Types of Business Organizations \n• Setting Up Your Business
URL:https://nvgrow.org/event/basics-of-starting-a-business/
LOCATION:Boldly Business\, 308 N Curry St 101\, Carson\, NV\, 89701\, United States
CATEGORIES:Events
ATTACH;FMTTYPE=image/png:https://nvgrow.org/wp-content/uploads/2025/01/image.png
END:VEVENT
END:VCALENDAR