BEGIN:VCALENDAR
VERSION:2.0
PRODID:-//NV Grow - ECPv6.15.20//NONSGML v1.0//EN
CALSCALE:GREGORIAN
METHOD:PUBLISH
X-WR-CALNAME:NV Grow
X-ORIGINAL-URL:https://nvgrow.org
X-WR-CALDESC:Events for NV Grow
REFRESH-INTERVAL;VALUE=DURATION:PT1H
X-Robots-Tag:noindex
X-PUBLISHED-TTL:PT1H
BEGIN:VTIMEZONE
TZID:America/Los_Angeles
BEGIN:DAYLIGHT
TZOFFSETFROM:-0800
TZOFFSETTO:-0700
TZNAME:PDT
DTSTART:20240310T100000
END:DAYLIGHT
BEGIN:STANDARD
TZOFFSETFROM:-0700
TZOFFSETTO:-0800
TZNAME:PST
DTSTART:20241103T090000
END:STANDARD
BEGIN:DAYLIGHT
TZOFFSETFROM:-0800
TZOFFSETTO:-0700
TZNAME:PDT
DTSTART:20250309T100000
END:DAYLIGHT
BEGIN:STANDARD
TZOFFSETFROM:-0700
TZOFFSETTO:-0800
TZNAME:PST
DTSTART:20251102T090000
END:STANDARD
BEGIN:DAYLIGHT
TZOFFSETFROM:-0800
TZOFFSETTO:-0700
TZNAME:PDT
DTSTART:20260308T100000
END:DAYLIGHT
BEGIN:STANDARD
TZOFFSETFROM:-0700
TZOFFSETTO:-0800
TZNAME:PST
DTSTART:20261101T090000
END:STANDARD
END:VTIMEZONE
BEGIN:VEVENT
DTSTART;TZID=America/Los_Angeles:20250116T150000
DTEND;TZID=America/Los_Angeles:20250116T163000
DTSTAMP:20260421T082208
CREATED:20241119T191421Z
LAST-MODIFIED:20241125T184656Z
UID:2269-1737039600-1737045000@nvgrow.org
SUMMARY:Federal Tax Essentials with the IRS - Lesson 3
DESCRIPTION:Lesson 3: Filing and Paying Taxes Electronically  \n·           Sole Proprietor \n·           Partnership \n·           Corporation \n·           Charity or Non-profit \n·           Do you pay your taxes electronically? \n·           Benefits of Paying Electronically \n·           Electronic Funds Withdrawal \n·           Electronic Filing Tax Payment System (EFTPS) and EFTPS Payment Methods \nRegister here: https://sbed.ecenterdirect.com/events/1019101
URL:https://nvgrow.org/event/federal-tax-essentials-with-the-irs-lesson-3/
CATEGORIES:Events
ATTACH;FMTTYPE=image/webp:https://nvgrow.org/wp-content/uploads/2024/11/tax-v2.webp
END:VEVENT
END:VCALENDAR