BEGIN:VCALENDAR
VERSION:2.0
PRODID:-//NV Grow - ECPv6.15.20//NONSGML v1.0//EN
CALSCALE:GREGORIAN
METHOD:PUBLISH
X-ORIGINAL-URL:https://nvgrow.org
X-WR-CALDESC:Events for NV Grow
REFRESH-INTERVAL;VALUE=DURATION:PT1H
X-Robots-Tag:noindex
X-PUBLISHED-TTL:PT1H
BEGIN:VTIMEZONE
TZID:America/Los_Angeles
BEGIN:DAYLIGHT
TZOFFSETFROM:-0800
TZOFFSETTO:-0700
TZNAME:PDT
DTSTART:20240310T100000
END:DAYLIGHT
BEGIN:STANDARD
TZOFFSETFROM:-0700
TZOFFSETTO:-0800
TZNAME:PST
DTSTART:20241103T090000
END:STANDARD
BEGIN:DAYLIGHT
TZOFFSETFROM:-0800
TZOFFSETTO:-0700
TZNAME:PDT
DTSTART:20250309T100000
END:DAYLIGHT
BEGIN:STANDARD
TZOFFSETFROM:-0700
TZOFFSETTO:-0800
TZNAME:PST
DTSTART:20251102T090000
END:STANDARD
BEGIN:DAYLIGHT
TZOFFSETFROM:-0800
TZOFFSETTO:-0700
TZNAME:PDT
DTSTART:20260308T100000
END:DAYLIGHT
BEGIN:STANDARD
TZOFFSETFROM:-0700
TZOFFSETTO:-0800
TZNAME:PST
DTSTART:20261101T090000
END:STANDARD
END:VTIMEZONE
BEGIN:VEVENT
DTSTART;TZID=America/Los_Angeles:20250117T083000
DTEND;TZID=America/Los_Angeles:20250117T110000
DTSTAMP:20260421T081428
CREATED:20250106T205942Z
LAST-MODIFIED:20250106T205947Z
UID:2316-1737102600-1737111600@nvgrow.org
SUMMARY:Women's Networking Event
DESCRIPTION:Please join Las Vegas’ small businesswomen’s networking group. Connect with female entrepreneurs for an informative educational and networking event. Meet with other women small business owners and aspiring small business owners to share your thoughts\, ideas and plans. January’s event will feature professional trainer Mary Maich who will share an effective\, easy to implement process for setting priorities for your life so you can focus on what’s most important to you.
URL:https://nvgrow.org/event/womens-networking-event/
LOCATION:Nevada Department of Business & Industry\, 3300 West Sahara Avenue Suite 425\, Las Vegas\, NV\, 89102\, United States
CATEGORIES:Events
ATTACH;FMTTYPE=image/png:https://nvgrow.org/wp-content/uploads/2025/01/image-2.png
END:VEVENT
END:VCALENDAR