BEGIN:VCALENDAR
VERSION:2.0
PRODID:-//NV Grow - ECPv6.15.20//NONSGML v1.0//EN
CALSCALE:GREGORIAN
METHOD:PUBLISH
X-WR-CALNAME:NV Grow
X-ORIGINAL-URL:https://nvgrow.org
X-WR-CALDESC:Events for NV Grow
REFRESH-INTERVAL;VALUE=DURATION:PT1H
X-Robots-Tag:noindex
X-PUBLISHED-TTL:PT1H
BEGIN:VTIMEZONE
TZID:America/Los_Angeles
BEGIN:DAYLIGHT
TZOFFSETFROM:-0800
TZOFFSETTO:-0700
TZNAME:PDT
DTSTART:20240310T100000
END:DAYLIGHT
BEGIN:STANDARD
TZOFFSETFROM:-0700
TZOFFSETTO:-0800
TZNAME:PST
DTSTART:20241103T090000
END:STANDARD
BEGIN:DAYLIGHT
TZOFFSETFROM:-0800
TZOFFSETTO:-0700
TZNAME:PDT
DTSTART:20250309T100000
END:DAYLIGHT
BEGIN:STANDARD
TZOFFSETFROM:-0700
TZOFFSETTO:-0800
TZNAME:PST
DTSTART:20251102T090000
END:STANDARD
BEGIN:DAYLIGHT
TZOFFSETFROM:-0800
TZOFFSETTO:-0700
TZNAME:PDT
DTSTART:20260308T100000
END:DAYLIGHT
BEGIN:STANDARD
TZOFFSETFROM:-0700
TZOFFSETTO:-0800
TZNAME:PST
DTSTART:20261101T090000
END:STANDARD
END:VTIMEZONE
BEGIN:VEVENT
DTSTART;TZID=America/Los_Angeles:20250128T140000
DTEND;TZID=America/Los_Angeles:20250128T153000
DTSTAMP:20260421T065222
CREATED:20250121T055701Z
LAST-MODIFIED:20250213T185048Z
UID:2328-1738072800-1738078200@nvgrow.org
SUMMARY:Business Workshop with Chase Business Banking
DESCRIPTION:Business Workshop: Thinking like an entrepreneur\, Establishing a foundation for business growth\, Developing agility and resilience\, Putting people first.Please visit the link below to register. \nhttps://sbed.ecenterdirect.com/events/1019108 \n  \nPoint of Contact: Gabriel Interrante \nGabriel.interrante@csn.edu
URL:https://nvgrow.org/event/business-201-with-chase-business-banking/
LOCATION:College of Southern Nevada – North Las Vegas Campus Entrepreneurship Center\, 3200 East Cheyenne Avenue North Las Vegas\, NV 89030\, North Las Vegas\, 89030\, United States
CATEGORIES:Events
END:VEVENT
END:VCALENDAR