BEGIN:VCALENDAR
VERSION:2.0
PRODID:-//NV Grow - ECPv6.15.20//NONSGML v1.0//EN
CALSCALE:GREGORIAN
METHOD:PUBLISH
X-WR-CALNAME:NV Grow
X-ORIGINAL-URL:https://nvgrow.org
X-WR-CALDESC:Events for NV Grow
REFRESH-INTERVAL;VALUE=DURATION:PT1H
X-Robots-Tag:noindex
X-PUBLISHED-TTL:PT1H
BEGIN:VTIMEZONE
TZID:America/Los_Angeles
BEGIN:DAYLIGHT
TZOFFSETFROM:-0800
TZOFFSETTO:-0700
TZNAME:PDT
DTSTART:20240310T100000
END:DAYLIGHT
BEGIN:STANDARD
TZOFFSETFROM:-0700
TZOFFSETTO:-0800
TZNAME:PST
DTSTART:20241103T090000
END:STANDARD
BEGIN:DAYLIGHT
TZOFFSETFROM:-0800
TZOFFSETTO:-0700
TZNAME:PDT
DTSTART:20250309T100000
END:DAYLIGHT
BEGIN:STANDARD
TZOFFSETFROM:-0700
TZOFFSETTO:-0800
TZNAME:PST
DTSTART:20251102T090000
END:STANDARD
BEGIN:DAYLIGHT
TZOFFSETFROM:-0800
TZOFFSETTO:-0700
TZNAME:PDT
DTSTART:20260308T100000
END:DAYLIGHT
BEGIN:STANDARD
TZOFFSETFROM:-0700
TZOFFSETTO:-0800
TZNAME:PST
DTSTART:20261101T090000
END:STANDARD
END:VTIMEZONE
BEGIN:VEVENT
DTSTART;TZID=America/Los_Angeles:20250130T150000
DTEND;TZID=America/Los_Angeles:20250130T163000
DTSTAMP:20260421T064627
CREATED:20241119T191723Z
LAST-MODIFIED:20241125T184717Z
UID:2273-1738249200-1738254600@nvgrow.org
SUMMARY:Federal Tax Essentials with the IRS - Lesson 5
DESCRIPTION:Lesson 5: Federal Taxes When Hiring Employees or Independent Contractors  \n·           Employment Taxes \n·           Worker classification – Employee or Independent Contractor \n·           Behavioral Control \n·           Financial Control \n·           Relationship with worker \n·           Determining worker status \n·           Employer responsibilities if you have employees \n·           Determining eligibility of employees to work legally in the U.S. \n·           Form W-4 \n·           Verification of employee SSNs \n·           Form W-2 Wage and Tax Statement \n·           Ensuring new employees provide correct information \n·           Document the steps you take \n·           Issuing Forms W-2 \n·           Earned Income Tax Credit (EITC) \n·           Individual Tax Identification Number (ITIN) \n·           Independent Contractors/Filing Proper Forms \nRegister here: https://sbed.ecenterdirect.com/events/1019103
URL:https://nvgrow.org/event/federal-tax-essentials-with-the-irs-lesson-5/
CATEGORIES:Events
ATTACH;FMTTYPE=image/webp:https://nvgrow.org/wp-content/uploads/2024/11/tax-v2.webp
END:VEVENT
END:VCALENDAR