BEGIN:VCALENDAR
VERSION:2.0
PRODID:-//NV Grow - ECPv6.15.20//NONSGML v1.0//EN
CALSCALE:GREGORIAN
METHOD:PUBLISH
X-WR-CALNAME:NV Grow
X-ORIGINAL-URL:https://nvgrow.org
X-WR-CALDESC:Events for NV Grow
REFRESH-INTERVAL;VALUE=DURATION:PT1H
X-Robots-Tag:noindex
X-PUBLISHED-TTL:PT1H
BEGIN:VTIMEZONE
TZID:America/Los_Angeles
BEGIN:DAYLIGHT
TZOFFSETFROM:-0800
TZOFFSETTO:-0700
TZNAME:PDT
DTSTART:20240310T100000
END:DAYLIGHT
BEGIN:STANDARD
TZOFFSETFROM:-0700
TZOFFSETTO:-0800
TZNAME:PST
DTSTART:20241103T090000
END:STANDARD
BEGIN:DAYLIGHT
TZOFFSETFROM:-0800
TZOFFSETTO:-0700
TZNAME:PDT
DTSTART:20250309T100000
END:DAYLIGHT
BEGIN:STANDARD
TZOFFSETFROM:-0700
TZOFFSETTO:-0800
TZNAME:PST
DTSTART:20251102T090000
END:STANDARD
BEGIN:DAYLIGHT
TZOFFSETFROM:-0800
TZOFFSETTO:-0700
TZNAME:PDT
DTSTART:20260308T100000
END:DAYLIGHT
BEGIN:STANDARD
TZOFFSETFROM:-0700
TZOFFSETTO:-0800
TZNAME:PST
DTSTART:20261101T090000
END:STANDARD
END:VTIMEZONE
BEGIN:VEVENT
DTSTART;TZID=America/Los_Angeles:20250225T140000
DTEND;TZID=America/Los_Angeles:20250225T153000
DTSTAMP:20260421T051313
CREATED:20250131T010059Z
LAST-MODIFIED:20250131T012112Z
UID:2336-1740492000-1740497400@nvgrow.org
SUMMARY:Power of Capital with Chase Business Banking
DESCRIPTION:Power of Capital: Think strategically about cash flow. Does your business need to borrow? What financial data is important? SBA loan programs. \nRegister Here: \nhttps://sbed.ecenterdirect.com/events/1019109 \nPoint of Contact: Gabriel Interrante \nGabriel.interrante@csn.edu
URL:https://nvgrow.org/event/power-of-capital-with-chase-business-banking/
LOCATION:College of Southern Nevada – North Las Vegas Campus Entrepreneurship Center\, 3200 East Cheyenne Avenue North Las Vegas\, NV 89030\, North Las Vegas\, 89030\, United States
CATEGORIES:Events
ATTACH;FMTTYPE=image/jpeg:https://nvgrow.org/wp-content/uploads/2025/01/5.jpg
END:VEVENT
END:VCALENDAR