BEGIN:VCALENDAR
VERSION:2.0
PRODID:-//NV Grow - ECPv6.15.20//NONSGML v1.0//EN
CALSCALE:GREGORIAN
METHOD:PUBLISH
X-WR-CALNAME:NV Grow
X-ORIGINAL-URL:https://nvgrow.org
X-WR-CALDESC:Events for NV Grow
REFRESH-INTERVAL;VALUE=DURATION:PT1H
X-Robots-Tag:noindex
X-PUBLISHED-TTL:PT1H
BEGIN:VTIMEZONE
TZID:America/Los_Angeles
BEGIN:DAYLIGHT
TZOFFSETFROM:-0800
TZOFFSETTO:-0700
TZNAME:PDT
DTSTART:20240310T100000
END:DAYLIGHT
BEGIN:STANDARD
TZOFFSETFROM:-0700
TZOFFSETTO:-0800
TZNAME:PST
DTSTART:20241103T090000
END:STANDARD
BEGIN:DAYLIGHT
TZOFFSETFROM:-0800
TZOFFSETTO:-0700
TZNAME:PDT
DTSTART:20250309T100000
END:DAYLIGHT
BEGIN:STANDARD
TZOFFSETFROM:-0700
TZOFFSETTO:-0800
TZNAME:PST
DTSTART:20251102T090000
END:STANDARD
BEGIN:DAYLIGHT
TZOFFSETFROM:-0800
TZOFFSETTO:-0700
TZNAME:PDT
DTSTART:20260308T100000
END:DAYLIGHT
BEGIN:STANDARD
TZOFFSETFROM:-0700
TZOFFSETTO:-0800
TZNAME:PST
DTSTART:20261101T090000
END:STANDARD
END:VTIMEZONE
BEGIN:VEVENT
DTSTART;TZID=America/Los_Angeles:20250416T160000
DTEND;TZID=America/Los_Angeles:20250416T200000
DTSTAMP:20260421T033750
CREATED:20250412T053900Z
LAST-MODIFIED:20250412T053925Z
UID:2411-1744819200-1744833600@nvgrow.org
SUMMARY:AI Pitch Competition
DESCRIPTION:REGISTER NOW: https://nevadasbdc.org/event/ai-pitch-competition \nPitch Your AI Innovation & Win Up to $35K in Amazon Web Services (AWS) Partner Funding \nSponsored by AWS & PREDICTif Solutions | Hosted by SBDC Nevada  \nThe Nevada Small Business Development Center (SBDC)\, in partnership with AWS and PREDICTif Solutions\, invites small businesses to compete in an exclusive AI Pitch Competition on April 16\, 2025\, in Las Vegas. \nThis is your opportunity to showcase your AI vision in front of AWS leaders and industry experts\, with a chance to win up to $35K in AWS partner funding to bring your project to life. \nWhat’s at Stake?\n\nTotal funding of up to $35K to fuel your AI project\n\nHow It Works\n\nApply to Pitch– Up to 10 businesses will be selected. After submitting your RSVP\, you’ll receive a confirmation if your application is chosen.\nPublic Pitch Format– Each company will pitch on stage in front of a live audience and expert panel. Each pitch will be 10 minutes\, followed by a brief Q&A. Visual aids like PowerPoint may be used to support the presentation.  \nAI Use Case Requirement– Applicants must submit a 300-500 word synopsis outlining how they propose to use AI in their business. The more detailed and strategic\, the better your chances of being selected.\nNetworking Opportunity– After the competition\, engage with AWS and PREDICTif Solutions leaders to explore AI-driven business opportunities.\n\nWho Should Apply?\nThis competition is ideal for small businesses that: \n\nAre integrating AI-driven innovationinto their operations.\nNeed funding\, resources\, and expert supportto scale their AI vision.\nWant to connect with AI and AWS industry leadersto refine and implement AI strategies.\n\nWhy Participate?\n\nSecure funding & expert guidanceto implement AI in your business.\nExclusive opportunity to pitch directly to AWS & AI leaders.\nGain tailored feedback\, high-value pitch setting.\nNetwork with AWS and PREDICTif experts to explore AI-powered business growth.\n\nAbout the Hosts & Sponsors\n\nAWS(Amazon Web Services) is a global leader in cloud computing and AI innovation.\nPREDICTif Solutionsis an AWS Advanced Tier Partner with 17+ years of experience in AI/ML\, Generative AI\, Data Analytics\, and AWS cloud solutions.\nNevada SBDCprovides expert business guidance\, training\, and resources to help small businesses start\, grow\, and thrive.\n\nHow to Apply\nSubmit your RSVP through the form on this page.\nOnly selected applicants will receive confirmation to pitch. \n\nApplication Deadline:April 10\, 2025\nCompetition Date:April 16\, 2025\nLocation:Black Fire Innovation 8400 W Sunset Rd Suite 400\, Las Vegas\, NV 89113\n\nReady to showcase your AI innovation? Apply now!
URL:https://nvgrow.org/event/ai-pitch-competition/
LOCATION:Black Fire Innovation
CATEGORIES:Events
ATTACH;FMTTYPE=image/png:https://nvgrow.org/wp-content/uploads/2025/04/AI-Pitch-Competition-Flyer-480x480-1.png
END:VEVENT
END:VCALENDAR