BEGIN:VCALENDAR
VERSION:2.0
PRODID:-//NV Grow - ECPv6.15.20//NONSGML v1.0//EN
CALSCALE:GREGORIAN
METHOD:PUBLISH
X-WR-CALNAME:NV Grow
X-ORIGINAL-URL:https://nvgrow.org
X-WR-CALDESC:Events for NV Grow
REFRESH-INTERVAL;VALUE=DURATION:PT1H
X-Robots-Tag:noindex
X-PUBLISHED-TTL:PT1H
BEGIN:VTIMEZONE
TZID:America/Los_Angeles
BEGIN:DAYLIGHT
TZOFFSETFROM:-0800
TZOFFSETTO:-0700
TZNAME:PDT
DTSTART:20240310T100000
END:DAYLIGHT
BEGIN:STANDARD
TZOFFSETFROM:-0700
TZOFFSETTO:-0800
TZNAME:PST
DTSTART:20241103T090000
END:STANDARD
BEGIN:DAYLIGHT
TZOFFSETFROM:-0800
TZOFFSETTO:-0700
TZNAME:PDT
DTSTART:20250309T100000
END:DAYLIGHT
BEGIN:STANDARD
TZOFFSETFROM:-0700
TZOFFSETTO:-0800
TZNAME:PST
DTSTART:20251102T090000
END:STANDARD
BEGIN:DAYLIGHT
TZOFFSETFROM:-0800
TZOFFSETTO:-0700
TZNAME:PDT
DTSTART:20260308T100000
END:DAYLIGHT
BEGIN:STANDARD
TZOFFSETFROM:-0700
TZOFFSETTO:-0800
TZNAME:PST
DTSTART:20261101T090000
END:STANDARD
END:VTIMEZONE
BEGIN:VEVENT
DTSTART;TZID=America/Los_Angeles:20251001T163000
DTEND;TZID=America/Los_Angeles:20251001T180000
DTSTAMP:20260420T171635
CREATED:20250802T193114Z
LAST-MODIFIED:20250818T161931Z
UID:3179-1759336200-1759341600@nvgrow.org
SUMMARY:Marketing in a Digital World
DESCRIPTION:Register here\n\nMarketing in a Digital World (October 1 @ 4:30 pm – 6:00 pm)\nYour unique business. Where your customers are. Maximizing your online spaces. Analyzing and adjusting. Own your digital spaces.\n\n\nDate: 10/1/2025\nTime: 4:30 PM – 6:00 PM (PDT)\nStatus: Open – 5 places remaining\nRegistration Deadline: 9/30/2025 5:00 PM (PDT)\nFee: No FeePoint of Contact: Gabriel Interrante (702) 465-4332\nTraining Topics: Marketing/Sales\nDescription: Marketing in a Digital World: Your unique business\, Where your customers are\, Maximizing your online spaces\, Analyzing and adjusting\, Own your digital spaces. \n\nPoint of Contact: NV Grow Staff \nEmail: nvgrow@csn.edu
URL:https://nvgrow.org/event/marketing-in-a-digital-world/
LOCATION:CSN Henderson\, 700 College Dr\, Henderson\, NV\, 89002\, United States
CATEGORIES:Events
ATTACH;FMTTYPE=image/jpeg:https://nvgrow.org/wp-content/uploads/2025/08/Marketing-in-a-Digital-World-HSBA-2025.jpg
END:VEVENT
END:VCALENDAR