BEGIN:VCALENDAR
VERSION:2.0
PRODID:-//NV Grow - ECPv6.15.20//NONSGML v1.0//EN
CALSCALE:GREGORIAN
METHOD:PUBLISH
X-ORIGINAL-URL:https://nvgrow.org
X-WR-CALDESC:Events for NV Grow
REFRESH-INTERVAL;VALUE=DURATION:PT1H
X-Robots-Tag:noindex
X-PUBLISHED-TTL:PT1H
BEGIN:VTIMEZONE
TZID:America/Los_Angeles
BEGIN:DAYLIGHT
TZOFFSETFROM:-0800
TZOFFSETTO:-0700
TZNAME:PDT
DTSTART:20240310T100000
END:DAYLIGHT
BEGIN:STANDARD
TZOFFSETFROM:-0700
TZOFFSETTO:-0800
TZNAME:PST
DTSTART:20241103T090000
END:STANDARD
BEGIN:DAYLIGHT
TZOFFSETFROM:-0800
TZOFFSETTO:-0700
TZNAME:PDT
DTSTART:20250309T100000
END:DAYLIGHT
BEGIN:STANDARD
TZOFFSETFROM:-0700
TZOFFSETTO:-0800
TZNAME:PST
DTSTART:20251102T090000
END:STANDARD
BEGIN:DAYLIGHT
TZOFFSETFROM:-0800
TZOFFSETTO:-0700
TZNAME:PDT
DTSTART:20260308T100000
END:DAYLIGHT
BEGIN:STANDARD
TZOFFSETFROM:-0700
TZOFFSETTO:-0800
TZNAME:PST
DTSTART:20261101T090000
END:STANDARD
END:VTIMEZONE
BEGIN:VEVENT
DTSTART;TZID=America/Los_Angeles:20251015T160000
DTEND;TZID=America/Los_Angeles:20251015T173000
DTSTAMP:20260420T172237
CREATED:20250802T193218Z
LAST-MODIFIED:20251007T140342Z
UID:3181-1760544000-1760549400@nvgrow.org
SUMMARY:Generations at War: The Expense Companies Don’t Budget For
DESCRIPTION:Register here \nGenerations at War: The Expense Companies Don’t Budget For \n(Boomers\, Gen X\, Millennials\, Gen Z Under One Roof) \nPresented by: LaToya Russell\, MSc\nLead Trainer & Workforce Optimization Specialist\nThe OBM Office LLC dba Russell & Company Ltd \nDate: 10/15/2025\nTime: 4:00 PM – 5:30 PM (PDT)\nStatus: Open – 5 places remaining\nRegistration Deadline: 10/14/2025 5:00 PM (PDT)\nFee: No Fee \nPoint of Contact: NV Grow Staff \nLocation: 700 College Dr\, Henderson\, NV 89002 \nPoint of Contact: NV Grow Staff Email: nvgrow@csn.edu
URL:https://nvgrow.org/event/generations-at-war/
LOCATION:700 College Dr\, Henderson\, NV 89002
CATEGORIES:Events
ATTACH;FMTTYPE=image/jpeg:https://nvgrow.org/wp-content/uploads/2025/08/thumbnail_Generations-at-War-Workshop-HSBA-2025.jpg
END:VEVENT
END:VCALENDAR