BEGIN:VCALENDAR
VERSION:2.0
PRODID:-//NV Grow - ECPv6.15.20//NONSGML v1.0//EN
CALSCALE:GREGORIAN
METHOD:PUBLISH
X-ORIGINAL-URL:https://nvgrow.org
X-WR-CALDESC:Events for NV Grow
REFRESH-INTERVAL;VALUE=DURATION:PT1H
X-Robots-Tag:noindex
X-PUBLISHED-TTL:PT1H
BEGIN:VTIMEZONE
TZID:America/Los_Angeles
BEGIN:DAYLIGHT
TZOFFSETFROM:-0800
TZOFFSETTO:-0700
TZNAME:PDT
DTSTART:20240310T100000
END:DAYLIGHT
BEGIN:STANDARD
TZOFFSETFROM:-0700
TZOFFSETTO:-0800
TZNAME:PST
DTSTART:20241103T090000
END:STANDARD
BEGIN:DAYLIGHT
TZOFFSETFROM:-0800
TZOFFSETTO:-0700
TZNAME:PDT
DTSTART:20250309T100000
END:DAYLIGHT
BEGIN:STANDARD
TZOFFSETFROM:-0700
TZOFFSETTO:-0800
TZNAME:PST
DTSTART:20251102T090000
END:STANDARD
BEGIN:DAYLIGHT
TZOFFSETFROM:-0800
TZOFFSETTO:-0700
TZNAME:PDT
DTSTART:20260308T100000
END:DAYLIGHT
BEGIN:STANDARD
TZOFFSETFROM:-0700
TZOFFSETTO:-0800
TZNAME:PST
DTSTART:20261101T090000
END:STANDARD
END:VTIMEZONE
BEGIN:VEVENT
DTSTART;TZID=America/Los_Angeles:20251119T163000
DTEND;TZID=America/Los_Angeles:20251119T180000
DTSTAMP:20260420T160200
CREATED:20251019T193544Z
LAST-MODIFIED:20251029T153738Z
UID:3188-1763569800-1763575200@nvgrow.org
SUMMARY:Grant Me Success
DESCRIPTION:Register here \nDate: 11/19/2025\nTime: 4:30 PM – 6:00 PM (PST)\nStatus: Open – 5 places remaining\nRegistration Deadline: 11/18/2025 5:00 PM (PST)\nFee: No Fee \nPoint of Contact: NV Grow Staff (702) 465-4332 \nTraining Topics: Business Financing\nDescription: Grant basics. Where to find opportunities. Proposal strategies & common pitfalls. Budgeting & post-award responsibilities.   \n\nPoint of Contact: \nNV Grow Staff \nEmail: nvgrow@csn.edu
URL:https://nvgrow.org/event/grant-me-success/
LOCATION:CSN Henderson\, 700 College Dr\, Henderson\, NV\, 89002\, United States
CATEGORIES:Events
ATTACH;FMTTYPE=image/jpeg:https://nvgrow.org/wp-content/uploads/2025/08/Unknown-1.jpeg
END:VEVENT
END:VCALENDAR