BEGIN:VCALENDAR
VERSION:2.0
PRODID:-//NV Grow - ECPv6.15.20//NONSGML v1.0//EN
CALSCALE:GREGORIAN
METHOD:PUBLISH
X-ORIGINAL-URL:https://nvgrow.org
X-WR-CALDESC:Events for NV Grow
REFRESH-INTERVAL;VALUE=DURATION:PT1H
X-Robots-Tag:noindex
X-PUBLISHED-TTL:PT1H
BEGIN:VTIMEZONE
TZID:America/Los_Angeles
BEGIN:DAYLIGHT
TZOFFSETFROM:-0800
TZOFFSETTO:-0700
TZNAME:PDT
DTSTART:20250309T100000
END:DAYLIGHT
BEGIN:STANDARD
TZOFFSETFROM:-0700
TZOFFSETTO:-0800
TZNAME:PST
DTSTART:20251102T090000
END:STANDARD
BEGIN:DAYLIGHT
TZOFFSETFROM:-0800
TZOFFSETTO:-0700
TZNAME:PDT
DTSTART:20260308T100000
END:DAYLIGHT
BEGIN:STANDARD
TZOFFSETFROM:-0700
TZOFFSETTO:-0800
TZNAME:PST
DTSTART:20261101T090000
END:STANDARD
BEGIN:DAYLIGHT
TZOFFSETFROM:-0800
TZOFFSETTO:-0700
TZNAME:PDT
DTSTART:20270314T100000
END:DAYLIGHT
BEGIN:STANDARD
TZOFFSETFROM:-0700
TZOFFSETTO:-0800
TZNAME:PST
DTSTART:20271107T090000
END:STANDARD
END:VTIMEZONE
BEGIN:VEVENT
DTSTART;TZID=America/Los_Angeles:20260324T160000
DTEND;TZID=America/Los_Angeles:20260324T173000
DTSTAMP:20260420T060746
CREATED:20260227T231205Z
LAST-MODIFIED:20260311T204826Z
UID:3390-1774368000-1774373400@nvgrow.org
SUMMARY:How to Start a Business | Register Here
DESCRIPTION:Date: 3/24/2026\nTime: 4:00 PM – 5:30 PM (PDT) \nRegistration Deadline: 3/24/2026 12:59 PM (PDT)\nFee: No Fee \nPoint of Contact: NV Grow Staff \nProgram Format: Online Meeting (Live)\nTraining Topics: How to Start a Business\nDescription: \n\n\nVirtual Session – March 24\, 2026\, at 4:00 PM \nThe How to Start a Business workshop is a practical\, entrepreneur‑focused session designed to help new and aspiring business owners take their first steps with confidence. Led by the Nevada Capital Readiness Program\, this virtual training walks participants through the process of launching a business in Nevada—breaking down the essentials in clear\, actionable terms. \nParticipants will learn how to register a business\, understand Nevada’s permits and compliance requirements\, and build a strong operational foundation. The session also introduces key statewide partners\, including the Nevada Small Business Development Center (SBDC) and SCORE\, which offer one‑on‑one advising\, mentoring\, and additional support along the entrepreneurial journey. \nKey Topics Covered\n\nStep-by-step guidance on launching a business in Nevada\nLearn how to choose an entity type\, register your business\, and set up legally and strategically.\nUnderstanding permits\, taxes\, and compliance requirements\nGet clarity on state\, county\, and city requirements so you remain compliant from day one.\nHow to create a strong business foundation\nExplore business planning\, financial readiness\, and the essential building blocks for long-term success.\nAccess to funding\, resources\, and support programs\nGain insight into loans\, grants\, and statewide support networks—including Nevada CRP\, SBDC\, SCORE\, and other partners dedicated to helping entrepreneurs thrive.\n\nThis virtual workshop is presented at the request of the CSN Women in Business Student Club and is open to anyone interested in starting a business. Whether you’re refining an existing idea or exploring entrepreneurship for the first time\, this session will equip you with the knowledge and tools to move forward with confidence. \n\n\nRegister Now \n\nPoint of Contact: NV Grow Staff\nEmail: nvgrow@csn.edu
URL:https://nvgrow.org/event/how-to-start-a-business-register-here/
LOCATION:Virtual
ATTACH;FMTTYPE=image/png:https://nvgrow.org/wp-content/uploads/2026/02/Melvin-Valentine-Jr.-Flyer.png
END:VEVENT
END:VCALENDAR