BEGIN:VCALENDAR
VERSION:2.0
PRODID:-//NV Grow - ECPv6.15.20//NONSGML v1.0//EN
CALSCALE:GREGORIAN
METHOD:PUBLISH
X-WR-CALNAME:NV Grow
X-ORIGINAL-URL:https://nvgrow.org
X-WR-CALDESC:Events for NV Grow
REFRESH-INTERVAL;VALUE=DURATION:PT1H
X-Robots-Tag:noindex
X-PUBLISHED-TTL:PT1H
BEGIN:VTIMEZONE
TZID:America/Los_Angeles
BEGIN:DAYLIGHT
TZOFFSETFROM:-0800
TZOFFSETTO:-0700
TZNAME:PDT
DTSTART:20250309T100000
END:DAYLIGHT
BEGIN:STANDARD
TZOFFSETFROM:-0700
TZOFFSETTO:-0800
TZNAME:PST
DTSTART:20251102T090000
END:STANDARD
BEGIN:DAYLIGHT
TZOFFSETFROM:-0800
TZOFFSETTO:-0700
TZNAME:PDT
DTSTART:20260308T100000
END:DAYLIGHT
BEGIN:STANDARD
TZOFFSETFROM:-0700
TZOFFSETTO:-0800
TZNAME:PST
DTSTART:20261101T090000
END:STANDARD
BEGIN:DAYLIGHT
TZOFFSETFROM:-0800
TZOFFSETTO:-0700
TZNAME:PDT
DTSTART:20270314T100000
END:DAYLIGHT
BEGIN:STANDARD
TZOFFSETFROM:-0700
TZOFFSETTO:-0800
TZNAME:PST
DTSTART:20271107T090000
END:STANDARD
END:VTIMEZONE
BEGIN:VEVENT
DTSTART;TZID=America/Los_Angeles:20260326T160000
DTEND;TZID=America/Los_Angeles:20260326T180000
DTSTAMP:20260420T061247
CREATED:20260227T233007Z
LAST-MODIFIED:20260227T233312Z
UID:3395-1774540800-1774548000@nvgrow.org
SUMMARY:CommUNITY Business Success Expo: Licensing\, Upskilling & Procurement | Register Here
DESCRIPTION:Date: 3/26/2026\nTime: 4:00 PM – 6:00 PM (PDT)\nStatus: Open\nRegistration Deadline: 3/25/2026 11:00 PM (PDT)\nFee: No Fee \nTraining Topics: Licensing\, Upskilling & Procurement \n\n\n\nEvent Description: \n\n\n\n\nThe CommUNITY Business Success Expo brings together Nevada’s leading licensing specialists\, procurement teams\, workforce partners\, and funding organizations\, all in one place. Learn how to strengthen your business\, unlock new opportunities\, and tap into the latest $38.5MSSBCI funding and other funding sources to support your next stage of growth. \n\nRegister Now  \n\nPoint of Contact: NV Grow Staff\nEmail: nvgrow@csn.edu \nResource Partners:\n\n• RTC of Southern Nevada\n• Urban Chamber of Commerce\n• U.S. Small Business Administration (SBA)\n• Nevada Governor’s Office of Economic Development (GOED)\n• CSN Career Services\n• African Chamber of Commerce\n• Nevada SBDC\n• Nevada Department of Business & Industry – “The Roadmap!”\n• Nevada APEX Accelerator\n• Latin Chamber of Commerce\n• StartUpNV\n• CSN Purchasing\n• CSN Auxiliaries\n• EmployNV Business Hub\n• SBED / NV Grow\n• SCORE\n• Access Community Capital\n• Urban Chamber of Commerce
URL:https://nvgrow.org/event/community-business-success-expo-licensing-upskilling-procurement-register-here/
LOCATION:CSN\, North Las Vegas Campus inside the Tyrone Thompson Student Union\, 3200 E Cheyenne Ave\, North Las Vegas\, NV\, 89030\, United States
ATTACH;FMTTYPE=image/png:https://nvgrow.org/wp-content/uploads/2026/02/Business-Expo-Flyer-Final-EG-scaled.png
END:VEVENT
END:VCALENDAR