BEGIN:VCALENDAR
VERSION:2.0
PRODID:-//NV Grow - ECPv6.15.20//NONSGML v1.0//EN
CALSCALE:GREGORIAN
METHOD:PUBLISH
X-WR-CALNAME:NV Grow
X-ORIGINAL-URL:https://nvgrow.org
X-WR-CALDESC:Events for NV Grow
REFRESH-INTERVAL;VALUE=DURATION:PT1H
X-Robots-Tag:noindex
X-PUBLISHED-TTL:PT1H
BEGIN:VTIMEZONE
TZID:America/Los_Angeles
BEGIN:DAYLIGHT
TZOFFSETFROM:-0800
TZOFFSETTO:-0700
TZNAME:PDT
DTSTART:20240310T100000
END:DAYLIGHT
BEGIN:STANDARD
TZOFFSETFROM:-0700
TZOFFSETTO:-0800
TZNAME:PST
DTSTART:20241103T090000
END:STANDARD
BEGIN:DAYLIGHT
TZOFFSETFROM:-0800
TZOFFSETTO:-0700
TZNAME:PDT
DTSTART:20250309T100000
END:DAYLIGHT
BEGIN:STANDARD
TZOFFSETFROM:-0700
TZOFFSETTO:-0800
TZNAME:PST
DTSTART:20251102T090000
END:STANDARD
BEGIN:DAYLIGHT
TZOFFSETFROM:-0800
TZOFFSETTO:-0700
TZNAME:PDT
DTSTART:20260308T100000
END:DAYLIGHT
BEGIN:STANDARD
TZOFFSETFROM:-0700
TZOFFSETTO:-0800
TZNAME:PST
DTSTART:20261101T090000
END:STANDARD
BEGIN:DAYLIGHT
TZOFFSETFROM:-0800
TZOFFSETTO:-0700
TZNAME:PDT
DTSTART:20270314T100000
END:DAYLIGHT
BEGIN:STANDARD
TZOFFSETFROM:-0700
TZOFFSETTO:-0800
TZNAME:PST
DTSTART:20271107T090000
END:STANDARD
END:VTIMEZONE
BEGIN:VEVENT
DTSTART;TZID=America/Los_Angeles:20251009T140000
DTEND;TZID=America/Los_Angeles:20251009T150000
DTSTAMP:20260420T185501
CREATED:20250924T183753Z
LAST-MODIFIED:20250924T184238Z
UID:3249-1760018400-1760022000@nvgrow.org
SUMMARY:Empowering Small Businesses with Artificial Intelligence
DESCRIPTION:Date: 10/9/2025\nTime: 2:00 PM – 3:00 PM (PDT)\nRegistration Deadline: 10/9/2025 2:00 PM (PDT) \nPoint of Contact: Nevada Grow Staff \nTraining Topics: Other\nDescription: This is a must-attend event for entrepreneurs and small business owners looking to harness the power of AI to grow\, streamline\, and innovate. \n\nEmpowering Small Businesses with Artificial Intelligence \nSign Up For This Event \nZoom link: https://us06web.zoom.us/j/84495653564
URL:https://nvgrow.org/event/empowering-small-businesses-with-artificial-intelligence/
ATTACH;FMTTYPE=image/png:https://nvgrow.org/wp-content/uploads/2025/09/image.png
END:VEVENT
BEGIN:VEVENT
DTSTART;TZID=America/Los_Angeles:20251015T160000
DTEND;TZID=America/Los_Angeles:20251015T173000
DTSTAMP:20260420T185501
CREATED:20250802T193218Z
LAST-MODIFIED:20251007T140342Z
UID:3181-1760544000-1760549400@nvgrow.org
SUMMARY:Generations at War: The Expense Companies Don’t Budget For
DESCRIPTION:Register here \nGenerations at War: The Expense Companies Don’t Budget For \n(Boomers\, Gen X\, Millennials\, Gen Z Under One Roof) \nPresented by: LaToya Russell\, MSc\nLead Trainer & Workforce Optimization Specialist\nThe OBM Office LLC dba Russell & Company Ltd \nDate: 10/15/2025\nTime: 4:00 PM – 5:30 PM (PDT)\nStatus: Open – 5 places remaining\nRegistration Deadline: 10/14/2025 5:00 PM (PDT)\nFee: No Fee \nPoint of Contact: NV Grow Staff \nLocation: 700 College Dr\, Henderson\, NV 89002 \nPoint of Contact: NV Grow Staff Email: nvgrow@csn.edu
URL:https://nvgrow.org/event/generations-at-war/
LOCATION:700 College Dr\, Henderson\, NV 89002
CATEGORIES:Events
ATTACH;FMTTYPE=image/jpeg:https://nvgrow.org/wp-content/uploads/2025/08/thumbnail_Generations-at-War-Workshop-HSBA-2025.jpg
END:VEVENT
BEGIN:VEVENT
DTSTART;TZID=America/Los_Angeles:20251029T163000
DTEND;TZID=America/Los_Angeles:20251029T180000
DTSTAMP:20260420T185501
CREATED:20251027T103328Z
LAST-MODIFIED:20251029T153944Z
UID:3183-1761755400-1761760800@nvgrow.org
SUMMARY:Windows of Opportunity
DESCRIPTION:Register here \n  \nWindows of Opportunity (October 29 @ 4:30 pm – 6:00 pm) \n\n\nWhat is supplier diversity?\nHow to navigate government contracting?\nHow to access corporate supplier diversity programs?\nWorking toward certification.\nMaking the most of your certification.
URL:https://nvgrow.org/event/windows-of-opportunity/
LOCATION:CSN Henderson\, 700 College Dr\, Henderson\, NV\, 89002\, United States
CATEGORIES:Events
ATTACH;FMTTYPE=image/jpeg:https://nvgrow.org/wp-content/uploads/2025/08/Windows-of-Opportunity-HSBA-2025.jpg
END:VEVENT
BEGIN:VEVENT
DTSTART;TZID=America/Los_Angeles:20251105T100000
DTEND;TZID=America/Los_Angeles:20251105T100000
DTSTAMP:20260420T185501
CREATED:20250727T163952Z
LAST-MODIFIED:20251027T224955Z
UID:3269-1762336800-1762336800@nvgrow.org
SUMMARY:Media Training
DESCRIPTION:Training Topics: Other\nDescription: \n\n\n\n\nWorkshop Topics Include: \n\n\n\n\n\n\nUnderstanding the media landscape\nOn-camera & performance coaching\nRelaxation techniques for public speaking\nMock interviews & real-time feedback\nHandling crisis situations & tough questions\nOn-air styling & wardrobe tips\n\nClick here to register now
URL:https://nvgrow.org/event/media-training-3/
LOCATION:North Las Vegas Campus CSN Entrepreneurship Center\, 3200 East Cheyenne Avenue\, North Las Vegas\, 89030\, United States
CATEGORIES:Events
ATTACH;FMTTYPE=image/jpeg:https://nvgrow.org/wp-content/uploads/2025/10/flyer.jpg
END:VEVENT
BEGIN:VEVENT
DTSTART;TZID=America/Los_Angeles:20251112T163000
DTEND;TZID=America/Los_Angeles:20251112T180000
DTSTAMP:20260420T185501
CREATED:20251012T193450Z
LAST-MODIFIED:20251029T153754Z
UID:3186-1762965000-1762970400@nvgrow.org
SUMMARY:Custom GIS Data & Training
DESCRIPTION:Register here \nDate: 11/12/2025\nTime: 4:30 PM – 6:00 PM (PST)\nStatus: Full\nRegistration Deadline: 11/11/2025 5:00 PM (PST)\nFee: No Fee \nPoint of Contact: NV Grow Staff (702) 465-4332 \nTraining Topics: Other\nDescription: What GIS can do for your business. Using maps to size markets\, compare sites\, and understand customer reach. How to request and interpret custom GIS reports from UNR Extension. Demo + Q&A. \n\nPoint of Contact: \nNV Grow Staff \nEmail: nvgrow@csn.edu
URL:https://nvgrow.org/event/custom-gis-data-training/
LOCATION:UNR Extension Lifelong Learning Center\, 8050 Paradise Rd Ste 100\, Las Vegas\, 89123\, United States
CATEGORIES:Events
ATTACH;FMTTYPE=image/jpeg:https://nvgrow.org/wp-content/uploads/2025/08/image002.jpg
END:VEVENT
BEGIN:VEVENT
DTSTART;TZID=America/Los_Angeles:20251119T163000
DTEND;TZID=America/Los_Angeles:20251119T180000
DTSTAMP:20260420T185501
CREATED:20251019T193544Z
LAST-MODIFIED:20251029T153738Z
UID:3188-1763569800-1763575200@nvgrow.org
SUMMARY:Grant Me Success
DESCRIPTION:Register here \nDate: 11/19/2025\nTime: 4:30 PM – 6:00 PM (PST)\nStatus: Open – 5 places remaining\nRegistration Deadline: 11/18/2025 5:00 PM (PST)\nFee: No Fee \nPoint of Contact: NV Grow Staff (702) 465-4332 \nTraining Topics: Business Financing\nDescription: Grant basics. Where to find opportunities. Proposal strategies & common pitfalls. Budgeting & post-award responsibilities.   \n\nPoint of Contact: \nNV Grow Staff \nEmail: nvgrow@csn.edu
URL:https://nvgrow.org/event/grant-me-success/
LOCATION:CSN Henderson\, 700 College Dr\, Henderson\, NV\, 89002\, United States
CATEGORIES:Events
ATTACH;FMTTYPE=image/jpeg:https://nvgrow.org/wp-content/uploads/2025/08/Unknown-1.jpeg
END:VEVENT
BEGIN:VEVENT
DTSTART;TZID=America/Los_Angeles:20260129T140000
DTEND;TZID=America/Los_Angeles:20260129T150000
DTSTAMP:20260420T185501
CREATED:20251120T204525Z
LAST-MODIFIED:20260211T165850Z
UID:3289-1769695200-1769698800@nvgrow.org
SUMMARY:HR Support for Small Businesses | Register Here
DESCRIPTION:Date: 1/29/2026\nTime: 2:00 PM – 3:00 PM (PST)\nStatus: Open\nRegistration Deadline: 1/29/2026 12:00 PM (PST)\nFee: No Fee \nTraining Topics: HR Support for Small Businesses \nSmall businesses need HR\, but many don’t know what that is\, or what rules apply to them. Join NV Grow and NAE for an informational webinar on how to navigate HR for small business. \nWe will cover: \n\nEmployment Laws based on number of employees\nWage & Hour Laws in Nevada\nPersonnel File Compliance (what’s required and what’s recommended)\nI-9\nDocument retention\n\nRegister Now  \n\nPoint of Contact: NV Grow Staff\nEmail: nvgrow@csn.edu
URL:https://nvgrow.org/event/hr-for-small-businesses/
LOCATION:Virtual
CATEGORIES:Events
ATTACH;FMTTYPE=image/png:https://nvgrow.org/wp-content/uploads/2025/11/IG-Size-HR-for-Small-Businesses.png
END:VEVENT
BEGIN:VEVENT
DTSTART;TZID=America/Los_Angeles:20260304T180000
DTEND;TZID=America/Los_Angeles:20260304T193000
DTSTAMP:20260420T185501
CREATED:20260210T200208Z
LAST-MODIFIED:20260304T010405Z
UID:3358-1772647200-1772652600@nvgrow.org
SUMMARY:Social Media That Brings In Sales
DESCRIPTION:Date: 3/4/2026\nTime: 6:00 PM – 7:30 PM (PST)\nStatus: Closed\nRegistration Deadline: 3/3/2026 5:00 PM (PST)\nFee: No Fee \nTraining Topics: Social Media That Brings In Sales \n\n\n\n\nStruggling to know what to post on social media or how to turn followers into customers? This hands-on workshop is designed for small business owners who want to use social media to sell without being overwhelmed. You’ll learn simple\, proven strategies to show up online with confidence\, attract local customers\, and create content that actually supports your business goals.\n“Walk away knowing exactly what to post\, leave with content ideas\, and knowing how to attract customers.” \nWorkshop Topics Include: \n\n\n\nHow to use social media to bring in real sales\nWhat to post to grow your business (without guessing or overthinking)\nLeave with content ideas you can post immediately\n\n\n\n\n\nRegistration Closed \n\nPoint of Contact: NV Grow Staff\nEmail: nvgrow@csn.edu
URL:https://nvgrow.org/event/social-media-that-brings-in-sales/
LOCATION:College of Southern Nevada – North Las Vegas Campus Entrepreneurship Center\, 3200 East Cheyenne Avenue North Las Vegas\, NV 89030\, North Las Vegas\, 89030\, United States
CATEGORIES:Events
ATTACH;FMTTYPE=image/png:https://nvgrow.org/wp-content/uploads/2026/02/d508a4d6-7379-4675-b322-8df05db92326.png
END:VEVENT
BEGIN:VEVENT
DTSTART;TZID=America/Los_Angeles:20260305T060000
DTEND;TZID=America/Los_Angeles:20260305T193000
DTSTAMP:20260420T185501
CREATED:20260210T203528Z
LAST-MODIFIED:20260222T224946Z
UID:3363-1772690400-1772739000@nvgrow.org
SUMMARY:Redes Sociales que Generan Ventas | Regístrese aquí
DESCRIPTION:Fecha: 5/3/2026\nHora: 6:00 PM – 7:30 PM (PST)\nEstado: Abierto\nFecha límite de inscripción: 4/3/2026\, 5:00 PM (PST)\nCosto: Sin costo \n\nTemas de Capacitación: Redes Sociales que Generan Ventas \n¿Te cuesta saber qué publicar en redes sociales o cómo convertir seguidores en clientes? Este taller práctico está diseñado para propietarios de pequeñas empresas que desean usar las redes sociales para vender sin sentirse abrumados. Aprenderás estrategias simples y comprobadas para presentarte en línea con confianza\, atraer clientes locales y crear contenido que realmente apoye los objetivos de tu negocio. \n“Saldrás sabiendo exactamente qué publicar\, con ideas de contenido y con claridad sobre cómo atraer clientes.” \nLos temas del taller incluyen: \n\nCómo utilizar las redes sociales para generar ventas reales\nQué publicar para hacer crecer tu negocio (sin adivinar ni pensar de más)\nLlévate ideas de contenido que puedas publicar de inmediato\n\n\nRegístrate ahora  \n\nPunto de contacto: Personal de NV Grow\nEmail: nvgrow@csn.edu
URL:https://nvgrow.org/event/redes-sociales-que-generan-ventas/
LOCATION:College of Southern Nevada – North Las Vegas Campus Centro de Emprendimiento 3200 East Cheyenne Avenue North Las Vegas\, NV 89030\, North Las Vegas\, Estados Unidos
CATEGORIES:Events
ATTACH;FMTTYPE=image/png:https://nvgrow.org/wp-content/uploads/2026/02/4ccc336e-e1be-48b2-9f52-e56dff8c4833.png
END:VEVENT
BEGIN:VEVENT
DTSTART;TZID=America/Los_Angeles:20260310T153000
DTEND;TZID=America/Los_Angeles:20260310T163000
DTSTAMP:20260420T185501
CREATED:20260128T163913Z
LAST-MODIFIED:20260309T222014Z
UID:3335-1773156600-1773160200@nvgrow.org
SUMMARY:Generations at War — The Hidden Expense Companies Never Budget For | Registration Closed
DESCRIPTION:Date: 3/10/2026\nTime: 3:30 PM – 4:30 PM (PST)\nStatus: Closed\nRegistration Deadline: 3/9/2026 at 1:00 PM\nFee: No Fee \nWorkshop Topics Include: \n\n\nHow generational friction causes the drain\nWhy retaining staff to complement AI and automation increases KPIs\nThe ability to spot where workplace clashes are costing most\nPractical next steps to evaluate team risk\n\n\nRegistration Closed \n\nPoint of Contact: NV Grow Staff\nEmail: nvgrow@csn.edu
URL:https://nvgrow.org/event/generations-at-war-the-hidden-expense-companies-never-budget-for/
LOCATION:College of Southern Nevada – North Las Vegas Campus Entrepreneurship Center\, 3200 East Cheyenne Avenue North Las Vegas\, NV 89030\, North Las Vegas\, 89030\, United States
CATEGORIES:Events
ATTACH;FMTTYPE=image/png:https://nvgrow.org/wp-content/uploads/2026/01/Latoya-Russell-Flyer.png
END:VEVENT
BEGIN:VEVENT
DTSTART;TZID=America/Los_Angeles:20260311T173000
DTEND;TZID=America/Los_Angeles:20260311T190000
DTSTAMP:20260420T185501
CREATED:20260131T235633Z
LAST-MODIFIED:20260312T004651Z
UID:3342-1773250200-1773255600@nvgrow.org
SUMMARY:Maximize Your VA Benefits | Registration Closed
DESCRIPTION:Date: 3/11/2026\nTime: 5:30 PM – 7:00 PM (PDT)\nStatus: Closed\nRegistration Deadline: 3/11/2026 at 5:00 PM (PDT)\nFee: No Fee \nWorkshop Topics Include: \n\n\nVA Disability Compensation\nEducation Benefits\nVA Healthcare\nVA Home Loans\nLearn the process\n\n\nSign in to the event here \n\nPoint of Contact: NV Grow Staff\nEmail: nvgrow@csn.edu
URL:https://nvgrow.org/event/maximize-your-va-benefits/
LOCATION:College of Southern Nevada – North Las Vegas Campus Entrepreneurship Center\, 3200 East Cheyenne Avenue North Las Vegas\, NV 89030\, North Las Vegas\, 89030\, United States
CATEGORIES:Events
ATTACH;FMTTYPE=image/png:https://nvgrow.org/wp-content/uploads/2026/01/Maximize-Your-VA-Benefits-Flyer-v2.png
END:VEVENT
BEGIN:VEVENT
DTSTART;TZID=America/Los_Angeles:20260324T160000
DTEND;TZID=America/Los_Angeles:20260324T173000
DTSTAMP:20260420T185501
CREATED:20260227T231205Z
LAST-MODIFIED:20260311T204826Z
UID:3390-1774368000-1774373400@nvgrow.org
SUMMARY:How to Start a Business | Register Here
DESCRIPTION:Date: 3/24/2026\nTime: 4:00 PM – 5:30 PM (PDT) \nRegistration Deadline: 3/24/2026 12:59 PM (PDT)\nFee: No Fee \nPoint of Contact: NV Grow Staff \nProgram Format: Online Meeting (Live)\nTraining Topics: How to Start a Business\nDescription: \n\n\nVirtual Session – March 24\, 2026\, at 4:00 PM \nThe How to Start a Business workshop is a practical\, entrepreneur‑focused session designed to help new and aspiring business owners take their first steps with confidence. Led by the Nevada Capital Readiness Program\, this virtual training walks participants through the process of launching a business in Nevada—breaking down the essentials in clear\, actionable terms. \nParticipants will learn how to register a business\, understand Nevada’s permits and compliance requirements\, and build a strong operational foundation. The session also introduces key statewide partners\, including the Nevada Small Business Development Center (SBDC) and SCORE\, which offer one‑on‑one advising\, mentoring\, and additional support along the entrepreneurial journey. \nKey Topics Covered\n\nStep-by-step guidance on launching a business in Nevada\nLearn how to choose an entity type\, register your business\, and set up legally and strategically.\nUnderstanding permits\, taxes\, and compliance requirements\nGet clarity on state\, county\, and city requirements so you remain compliant from day one.\nHow to create a strong business foundation\nExplore business planning\, financial readiness\, and the essential building blocks for long-term success.\nAccess to funding\, resources\, and support programs\nGain insight into loans\, grants\, and statewide support networks—including Nevada CRP\, SBDC\, SCORE\, and other partners dedicated to helping entrepreneurs thrive.\n\nThis virtual workshop is presented at the request of the CSN Women in Business Student Club and is open to anyone interested in starting a business. Whether you’re refining an existing idea or exploring entrepreneurship for the first time\, this session will equip you with the knowledge and tools to move forward with confidence. \n\n\nRegister Now \n\nPoint of Contact: NV Grow Staff\nEmail: nvgrow@csn.edu
URL:https://nvgrow.org/event/how-to-start-a-business-register-here/
LOCATION:Virtual
ATTACH;FMTTYPE=image/png:https://nvgrow.org/wp-content/uploads/2026/02/Melvin-Valentine-Jr.-Flyer.png
END:VEVENT
BEGIN:VEVENT
DTSTART;TZID=America/Los_Angeles:20260326T160000
DTEND;TZID=America/Los_Angeles:20260326T180000
DTSTAMP:20260420T185501
CREATED:20260227T233007Z
LAST-MODIFIED:20260227T233312Z
UID:3395-1774540800-1774548000@nvgrow.org
SUMMARY:CommUNITY Business Success Expo: Licensing\, Upskilling & Procurement | Register Here
DESCRIPTION:Date: 3/26/2026\nTime: 4:00 PM – 6:00 PM (PDT)\nStatus: Open\nRegistration Deadline: 3/25/2026 11:00 PM (PDT)\nFee: No Fee \nTraining Topics: Licensing\, Upskilling & Procurement \n\n\n\nEvent Description: \n\n\n\n\nThe CommUNITY Business Success Expo brings together Nevada’s leading licensing specialists\, procurement teams\, workforce partners\, and funding organizations\, all in one place. Learn how to strengthen your business\, unlock new opportunities\, and tap into the latest $38.5MSSBCI funding and other funding sources to support your next stage of growth. \n\nRegister Now  \n\nPoint of Contact: NV Grow Staff\nEmail: nvgrow@csn.edu \nResource Partners:\n\n• RTC of Southern Nevada\n• Urban Chamber of Commerce\n• U.S. Small Business Administration (SBA)\n• Nevada Governor’s Office of Economic Development (GOED)\n• CSN Career Services\n• African Chamber of Commerce\n• Nevada SBDC\n• Nevada Department of Business & Industry – “The Roadmap!”\n• Nevada APEX Accelerator\n• Latin Chamber of Commerce\n• StartUpNV\n• CSN Purchasing\n• CSN Auxiliaries\n• EmployNV Business Hub\n• SBED / NV Grow\n• SCORE\n• Access Community Capital\n• Urban Chamber of Commerce
URL:https://nvgrow.org/event/community-business-success-expo-licensing-upskilling-procurement-register-here/
LOCATION:CSN\, North Las Vegas Campus inside the Tyrone Thompson Student Union\, 3200 E Cheyenne Ave\, North Las Vegas\, NV\, 89030\, United States
ATTACH;FMTTYPE=image/png:https://nvgrow.org/wp-content/uploads/2026/02/Business-Expo-Flyer-Final-EG-scaled.png
END:VEVENT
BEGIN:VEVENT
DTSTART;TZID=America/Los_Angeles:20260401T110000
DTEND;TZID=America/Los_Angeles:20260401T120000
DTSTAMP:20260420T185501
CREATED:20260205T204910Z
LAST-MODIFIED:20260211T165654Z
UID:3350-1775041200-1775044800@nvgrow.org
SUMMARY:Your Business Glow-Up Starts Here: SBA 504 & 7(a) Loans Explained | Register Here
DESCRIPTION:Date: 4/1/2026\nTime: 11:00 AM – 12:00 PM (PDT) \nRegistration Deadline: 4/1/2026 10:00 AM (PDT)\nFee: No Fee \nPoint of Contact: NV Grow Staff \nProgram Format: Online Meeting (Live)\nTraining Topics: Business Financing\nDescription: \n\nSBA 504 & 7(a) Loans Explained \nNevada State Development Corporation (NSDC) experts are proud to collaborate with Nevada’s U.S. Small Business Administration (SBA) and Nevada Grow (NV Grow) to share valuable insights and resources for small business owners across Nevada. Together\, we’re committed to educating our local business community and helping you access smart financing solutions designed to preserve cash flow and support long-term growth. \nJoin the only Nevada-based CDC (Certified Development Company) alongside Nevada’s SBA District Director\, Saul Ramos\, for an informative conversation focused on helping your business thrive. \nWe will cover: \n\nKey differences between SBA 7(a) and SBA 504 loans\, and how to know which program fits your business goals\nWhat each program can be used for (real estate\, equipment\, working capital\, debt refinance\, and more)\nDown payment\, terms\, and interest rate structures\, including how to preserve cash flow\nEligibility basics and common misconceptions that can make or break an approval\n\n\n\nRegister Now  \n\nPoint of Contact: NV Grow Staff\nEmail: nvgrow@csn.edu
URL:https://nvgrow.org/event/your-business-glow-up-starts-here-sba-504-7a-loans-explained/
LOCATION:Virtual
CATEGORIES:Events
ATTACH;FMTTYPE=image/png:https://nvgrow.org/wp-content/uploads/2026/02/SBA-Flyer.png
END:VEVENT
BEGIN:VEVENT
DTSTART;TZID=America/Los_Angeles:20260403T100000
DTEND;TZID=America/Los_Angeles:20260403T120000
DTSTAMP:20260420T185501
CREATED:20251216T231840Z
LAST-MODIFIED:20260402T204722Z
UID:3316-1775210400-1775217600@nvgrow.org
SUMMARY:Media Training | Register Here
DESCRIPTION:Date: 4/3/2026\nTime: 10:00 AM – 12:00 PM (PDT)\nStatus: Open\nRegistration Deadline: 4/3/2026 9:00 AM (PDT)\nFee: No Fee \nTraining Topics: Media Training  \n\n\n\nWorkshop Topics Include: \n\n\n\n\n\nUnderstanding the media landscape\nOn-camera & performance coaching\nRelaxation techniques for public speaking\nMock interviews & real-time feedback\nOn-air styling & wardrobe tips\n\n\nRegister Now  \n\nPoint of Contact: NV Grow Staff\nEmail: nvgrow@csn.edu
URL:https://nvgrow.org/event/media-training-4/
LOCATION:College of Southern Nevada – North Las Vegas Campus Entrepreneurship Center\, 3200 East Cheyenne Avenue North Las Vegas\, NV 89030\, North Las Vegas\, 89030\, United States
CATEGORIES:Events
ATTACH;FMTTYPE=image/png:https://nvgrow.org/wp-content/uploads/2025/12/Patranya-Media-Flyer-IG.png
END:VEVENT
BEGIN:VEVENT
DTSTART;TZID=America/Los_Angeles:20260512T110000
DTEND;TZID=America/Los_Angeles:20260512T123000
DTSTAMP:20260420T185501
CREATED:20260402T204411Z
LAST-MODIFIED:20260402T204411Z
UID:3426-1778583600-1778589000@nvgrow.org
SUMMARY:POWER OF CAPITAL | Register Here
DESCRIPTION:REGISTER NOW\n\nDate: 5/12/2026\nTime: 11:00 AM – 12:30 PM (PDT)\nFee: No Fee \nProgram Format: Online Meeting (Live)\nTraining Topics: How to Manage Cash Flow Strategically \n\nVirtual Session \nThis training equips business owners with the tools to strategically manage cash flow\, assess borrowing needs\, interpret key financial data\, and understand SBA loan programs to support informed\, sustainable business growth. \nKey Topics Covered\n\nStrategic Cash Flow Management: Learn to manage cash\nflow strategically to support business operations.\nBorrowing Considerations: Evaluate if borrowing is necessary\nfor your business and understand the implications.\nKey Financial Data: Identify essential financial\ndata for informed decision-making.\nSBA Loan Programs: Explore Small Business\nAdministration loan options and their benefits.\n\n\n\nPoint of Contact: NV Grow Staff\nEmail: nvgrow@csn.edu
URL:https://nvgrow.org/event/power-of-capital-register-here/
LOCATION:Virtual
CATEGORIES:Events
ATTACH;FMTTYPE=image/png:https://nvgrow.org/wp-content/uploads/2026/04/1.png
END:VEVENT
END:VCALENDAR