BEGIN:VCALENDAR
VERSION:2.0
PRODID:-//NV Grow - ECPv6.15.20//NONSGML v1.0//EN
CALSCALE:GREGORIAN
METHOD:PUBLISH
X-WR-CALNAME:NV Grow
X-ORIGINAL-URL:https://nvgrow.org
X-WR-CALDESC:Events for NV Grow
REFRESH-INTERVAL;VALUE=DURATION:PT1H
X-Robots-Tag:noindex
X-PUBLISHED-TTL:PT1H
BEGIN:VTIMEZONE
TZID:America/Los_Angeles
BEGIN:DAYLIGHT
TZOFFSETFROM:-0800
TZOFFSETTO:-0700
TZNAME:PDT
DTSTART:20220313T100000
END:DAYLIGHT
BEGIN:STANDARD
TZOFFSETFROM:-0700
TZOFFSETTO:-0800
TZNAME:PST
DTSTART:20221106T090000
END:STANDARD
BEGIN:DAYLIGHT
TZOFFSETFROM:-0800
TZOFFSETTO:-0700
TZNAME:PDT
DTSTART:20230312T100000
END:DAYLIGHT
BEGIN:STANDARD
TZOFFSETFROM:-0700
TZOFFSETTO:-0800
TZNAME:PST
DTSTART:20231105T090000
END:STANDARD
BEGIN:DAYLIGHT
TZOFFSETFROM:-0800
TZOFFSETTO:-0700
TZNAME:PDT
DTSTART:20240310T100000
END:DAYLIGHT
BEGIN:STANDARD
TZOFFSETFROM:-0700
TZOFFSETTO:-0800
TZNAME:PST
DTSTART:20241103T090000
END:STANDARD
BEGIN:DAYLIGHT
TZOFFSETFROM:-0800
TZOFFSETTO:-0700
TZNAME:PDT
DTSTART:20250309T100000
END:DAYLIGHT
BEGIN:STANDARD
TZOFFSETFROM:-0700
TZOFFSETTO:-0800
TZNAME:PST
DTSTART:20251102T090000
END:STANDARD
END:VTIMEZONE
BEGIN:VEVENT
DTSTART;TZID=America/Los_Angeles:20240924T180000
DTEND;TZID=America/Los_Angeles:20240924T200000
DTSTAMP:20260420T181054
CREATED:20240901T174510Z
LAST-MODIFIED:20240901T174515Z
UID:2222-1727200800-1727208000@nvgrow.org
SUMMARY:Core Business Mastery - Week One - Building a Solid Foundation
DESCRIPTION:WHAT WILL BE COVERED IN THIS WORKSHOP? \nSetting clear business goals\, time management\, ensuring consistent delivery of products/services\, and understanding financial statements.
URL:https://nvgrow.org/event/core-business-mastery-week-one-building-a-solid-foundation/
LOCATION:College of Southern Nevada – North Las Vegas Campus Entrepreneurship Center\, 3200 East Cheyenne Avenue North Las Vegas\, NV 89030\, North Las Vegas\, 89030\, United States
CATEGORIES:Events
ATTACH;FMTTYPE=image/jpeg:https://nvgrow.org/wp-content/uploads/2024/09/19-scaled.jpg
END:VEVENT
BEGIN:VEVENT
DTSTART;TZID=America/Los_Angeles:20240918T150000
DTEND;TZID=America/Los_Angeles:20240918T190000
DTSTAMP:20260420T181054
CREATED:20240621T201704Z
LAST-MODIFIED:20240621T201704Z
UID:2159-1726671600-1726686000@nvgrow.org
SUMMARY:Henderson Chamber of Commerce
DESCRIPTION:Prepare to be immersed in an extraordinary blend of community and commerce at the Henderson Chamber of Commerce’s “Ready\, Set\, Expo” on September 18\, 2024. Our annual expo helps small businesses win big by providing a platform for showcasing your products\, tapping into invaluable resources and expanding your network within the local business ecosystem. \nRegister Here
URL:https://nvgrow.org/event/henderson-chamber-of-commerce/
LOCATION:M Resort Pavilion\, M Resort Pavilion\, 12300 Las Vegas Blvd\, Las Vegas\, NV\, 89004\, United States
CATEGORIES:Events
ATTACH;FMTTYPE=image/jpeg:https://nvgrow.org/wp-content/uploads/2024/06/Henderson-Chamber-of-Commerce.jpg
END:VEVENT
BEGIN:VEVENT
DTSTART;TZID=America/Los_Angeles:20240802T100000
DTEND;TZID=America/Los_Angeles:20240802T120000
DTSTAMP:20260420T181054
CREATED:20240722T175722Z
LAST-MODIFIED:20240722T175722Z
UID:2184-1722592800-1722600000@nvgrow.org
SUMMARY:Media Training
DESCRIPTION:What will be covered in this workshop? \n\nUnderstanding the Media\nOn-Camera / Performance Coaching\nRelaxation Techniques\nMock Interviews\nHandling Crisis & Tough Questions by Reporters\nOn-Air Styling & Wardrobe Tips\n\nDate: \nFriday\, August 2nd\, 2024 \nTime: \n10AM to 12PM PST \nLocation: \nCollege of Southern Nevada\, Henderson Campus \n700 College Drive Henderson\, NV 89002 \nMain Building\, Room C105 \nRegister Here
URL:https://nvgrow.org/event/media-training/
LOCATION:NV
CATEGORIES:Events
ATTACH;FMTTYPE=image/png:https://nvgrow.org/wp-content/uploads/2024/07/Media20Training2010120-20SPACE20AVAILABLE_l_5dd4c741-3f85-4c00-8baf-57123314120b.png
END:VEVENT
BEGIN:VEVENT
DTSTART;TZID=America/Los_Angeles:20240626T120000
DTEND;TZID=America/Los_Angeles:20240626T170000
DTSTAMP:20260420T181054
CREATED:20240621T201300Z
LAST-MODIFIED:20240621T201440Z
UID:2151-1719403200-1719421200@nvgrow.org
SUMMARY:Vegas Chamber Business Expo
DESCRIPTION:The Business expo features 150+ exhibitors\, along with over 1\,000 attendees. With one event annually\, this concept reflects the popular PREVIEW show\, with an emphasis on the trade show portion. \nBusiness Expo Showcase is hyper-targeted to small business audiences throughout the community. This concept features table-top exhibit space\, a closing networking element\, and Chamber Chats. \nRegister Here
URL:https://nvgrow.org/event/vegas-chamber-business-expo/
LOCATION:The Expo at World Market Center\, 435 S Grand Central Pkwy\, Las Vegas\, NV\, 89106\, United States
CATEGORIES:Events
ATTACH;FMTTYPE=image/png:https://nvgrow.org/wp-content/uploads/2024/06/Vegas-Chamber-Business-Expo-2024.png
END:VEVENT
BEGIN:VEVENT
DTSTART;TZID=America/Los_Angeles:20240601T100000
DTEND;TZID=America/Los_Angeles:20240615T120000
DTSTAMP:20260420T181054
CREATED:20240504T101655Z
LAST-MODIFIED:20240504T101754Z
UID:2136-1717236000-1718452800@nvgrow.org
SUMMARY:Small Business Grant Academy
DESCRIPTION:In this course small businesses will learn about tools for researching small business grants\, strategies to identify appropriate grant opportunities\, grant writing basics\, and common post-award grants management techniques. \nSATURDAYS\, JUNE 1 – 15\, 2024 \n10 AM – NOON \nAPPLY BY SCHEDULING AN APPOINTMENT: \nhttps://calendly.com/janise/smallbizacademy
URL:https://nvgrow.org/event/small-business-grant-academy/
LOCATION:NV
CATEGORIES:Events
ATTACH;FMTTYPE=image/webp:https://nvgrow.org/wp-content/uploads/2024/05/small-business-grants.webp
END:VEVENT
BEGIN:VEVENT
DTSTART;TZID=America/Los_Angeles:20240501T100000
DTEND;TZID=America/Los_Angeles:20240501T140000
DTSTAMP:20260420T181054
CREATED:20240425T022959Z
LAST-MODIFIED:20240425T023135Z
UID:2118-1714557600-1714572000@nvgrow.org
SUMMARY:Nevada Small Business Resource Fair 2024
DESCRIPTION:Don’t miss this exciting opportunity for small business owners! Whether you’re thinking of launching a new venture or currently operating a business\, please join us to make new connections and access FREE resources. \nReserve a spot now
URL:https://nvgrow.org/event/nevada-small-business-resource-fair-2024/
LOCATION:Sahara West Library\, 9600 W Sahara\, Las Vegas\, NV\, United States
ATTACH;FMTTYPE=image/jpeg:https://nvgrow.org/wp-content/uploads/2024/04/roadmap.jpg
END:VEVENT
BEGIN:VEVENT
DTSTART;VALUE=DATE:20240429
DTEND;VALUE=DATE:20240502
DTSTAMP:20260420T181054
CREATED:20240424T005129Z
LAST-MODIFIED:20240424T005357Z
UID:2110-1714348800-1714607999@nvgrow.org
SUMMARY:National Small Business Week Virtual Summit
DESCRIPTION:2-DAY VIRTUAL SUMMIT \nDates: April 30 – May 1\, 2024 \nTime: 11:00 AM – 6:00 PM ET / 9:00 AM – 3:00 PM PST \nLocation: Fully Online \nEmpower your business with the latest strategies and network with industry leaders at the National Small Business Week Virtual Summit—a must-attend event to catalyze growth and innovation for your company. \nFree Registration:Secure your spot today and gain free access to a wealth of knowledge and resources. \nWhy You Can’t Miss This Summit:Free expert-led learning webinars. Dive into webinars such as: \n\n “Accelerate Business Growth with AI” by Visa\n “Securing Your Small Business in a Work-From-Anywhere World” by T-Mobile\n “Unlock AI’s Potential for Your Small Business” by Google\n  And many more insightful topics from top companies like Amazon\, Square\, Chase for Business\, Constant  Contact\, and NerdWallet.\n\nInteractive Exhibits and Networking:Connect with other business owners\, get real-time advice from SCORE mentors\, and gather invaluable resources. \nActionable Takeaways:Every session is designed to provide strategies and insights you can apply immediately to your business for immediate impact. \nLearn More
URL:https://nvgrow.org/event/national-small-business-week-virtual-summit/
LOCATION:NV
CATEGORIES:Events
ATTACH;FMTTYPE=image/webp:https://nvgrow.org/wp-content/uploads/2024/04/National-Small-Business-Week-V2.webp
END:VEVENT
BEGIN:VEVENT
DTSTART;TZID=America/Los_Angeles:20240302T090000
DTEND;TZID=America/Los_Angeles:20240302T100000
DTSTAMP:20260420T181054
CREATED:20240219T201410Z
LAST-MODIFIED:20240219T201410Z
UID:2041-1709370000-1709373600@nvgrow.org
SUMMARY:Funding Options for Your Business with Expert Panel
DESCRIPTION:SCORE Las Vegas is pleased to present a Small Business Funding panel designed to answer questions for those in business and those looking to start a business. Panelists include representatives from traditional and alternative funding sources. Each panelist will provide a short overview about their funding organizations in terms of what they look for when meeting with potential clients and what is required to secure access to capital. \nWe will then open the workshop up to the audience to ask questions of the panelists.  Each panelist will provide some thoughts on today’s financing environment and then time will be made available to have your own questions answered. We hope to see you there! \nPlease register here
URL:https://nvgrow.org/event/funding-options-for-your-business-with-expert-panel/
LOCATION:NV
CATEGORIES:Events
ATTACH;FMTTYPE=image/webp:https://nvgrow.org/wp-content/uploads/2024/01/employee-retention.webp
END:VEVENT
BEGIN:VEVENT
DTSTART;TZID=America/Los_Angeles:20240221T100000
DTEND;TZID=America/Los_Angeles:20240221T110000
DTSTAMP:20260420T181054
CREATED:20240219T200904Z
LAST-MODIFIED:20240219T200904Z
UID:2036-1708509600-1708513200@nvgrow.org
SUMMARY:How MBDA Can Help Black Entrepreneurs Elevate Their Business in 2024
DESCRIPTION:Join us for a virtual webinar where we will bring MBDA™’s equities together to discuss the programs and services they offer to assist entrepreneurs in growing and scaling their businesses. More specifically\, this event will provide participants with knowledge and tools to make informed decisions\, including understanding market trends\, accessing capital\, analyzing financial data\, negotiating contracts\, and evaluating different business strategies. Representatives from MBDA™’s Leadership Team\, Business Centers\, Enterprising Women of Color program\, Capital Readiness Program\, and Federal Procurement Center will help MBEs to use MBDA™’s tools and resources to learn how to stay abreast of industry trends\, embrace change\, and develop creative solutions to challenges\, fostering success and a culture of innovation within their businesses. \nPlease register here
URL:https://nvgrow.org/event/how-mbda-can-help-black-entrepreneurs-elevate-their-business-in-2024/
LOCATION:NV
CATEGORIES:Events
ATTACH;FMTTYPE=image/jpeg:https://nvgrow.org/wp-content/uploads/2024/02/black-history-month.jpg
END:VEVENT
BEGIN:VEVENT
DTSTART;TZID=America/Los_Angeles:20240127T120000
DTEND;TZID=America/Los_Angeles:20240127T170000
DTSTAMP:20260420T181054
CREATED:20240124T172643Z
LAST-MODIFIED:20240124T200422Z
UID:2003-1706356800-1706374800@nvgrow.org
SUMMARY:Getting Capital Ready
DESCRIPTION:Be informed: \n\n\n\n\nLearn about the Capital Readiness Grant\nState Small Business Credit Initiative\nInvestment for Minority Businesses\nLearn how to prepare for Nevada New Markets $30 million small business impact fund\n\nDownload the full PDF of the event: Getting Capital Ready \n \n 
URL:https://nvgrow.org/event/getting-capital-ready/
LOCATION:CSN TYRONE THOMPSON STUDENT UNION\, Ballroom 126 - 3200 E Cheyenne Ave\, North Las Vegas\, NV\, 89030\, United States
CATEGORIES:Events
ATTACH;FMTTYPE=image/png:https://nvgrow.org/wp-content/uploads/2024/01/DSC09701small.png
END:VEVENT
BEGIN:VEVENT
DTSTART;TZID=America/Los_Angeles:20240117T100000
DTEND;TZID=America/Los_Angeles:20240117T120000
DTSTAMP:20260420T181054
CREATED:20240108T201130Z
LAST-MODIFIED:20240108T201213Z
UID:1986-1705485600-1705492800@nvgrow.org
SUMMARY:Media Training - Free Community Workshop
DESCRIPTION:Join us as Patranya Bhoolsuwan explains how to understand the media\, on-camera performance\, and much more.
URL:https://nvgrow.org/event/media-training-free-community-workshop/
LOCATION:College of Southern Nevada – North Las Vegas Campus Entrepreneurship Center\, 3200 East Cheyenne Avenue North Las Vegas\, NV 89030\, North Las Vegas\, 89030\, United States
CATEGORIES:Events
ATTACH;FMTTYPE=image/webp:https://nvgrow.org/wp-content/uploads/2023/03/slider-2.webp
END:VEVENT
BEGIN:VEVENT
DTSTART;TZID=America/Los_Angeles:20231220T130000
DTEND;TZID=America/Los_Angeles:20231220T150000
DTSTAMP:20260420T181054
CREATED:20231213T181641Z
LAST-MODIFIED:20231213T181823Z
UID:1966-1703077200-1703084400@nvgrow.org
SUMMARY:Media Training Workshop 101
DESCRIPTION:             \nPlease save the date for my upcoming “Media Training 101” Community Workshop on Wednesday\, December 20th from 1PM – 3PM. \nThe Theme for this final class of the year is \n“Getting your Brand the Media Attention it Deserves in 2024”! \n The class takes place inside the CSN Blackstone LaunchPad Entrepreneurship Center at CSN North Las Vegas Campus. \nThis monthly class covers the following topics: \n\nUnderstanding the Media\nOn camera and performance coaching\nMock interviews\nRelaxation techniques\nHandling crisis and tough questions by reporters\nOn-air styling & wardrobe tips\n\nEvery attendee at each workshop will get a chance to win a book called “Become Your Own Boss in 12 months”  by author Melinda Emerson.
URL:https://nvgrow.org/event/media-training-workshop-101/
LOCATION:College of Southern Nevada – North Las Vegas Campus Entrepreneurship Center\, 3200 East Cheyenne Avenue North Las Vegas\, NV 89030\, North Las Vegas\, 89030\, United States
CATEGORIES:Events
ATTACH;FMTTYPE=image/webp:https://nvgrow.org/wp-content/uploads/2023/03/slider.webp
END:VEVENT
BEGIN:VEVENT
DTSTART;VALUE=DATE:20231214
DTEND;VALUE=DATE:20231217
DTSTAMP:20260420T181054
CREATED:20231129T204228Z
LAST-MODIFIED:20231129T204317Z
UID:1949-1702512000-1702771199@nvgrow.org
SUMMARY:Expansion - Small Business Growth Conference
DESCRIPTION:Presented by The Business Success Center in Partnership with the Urban Chamber of Commerce. Featuring Ona Brown & Friends. RSVP on the website.
URL:https://nvgrow.org/event/expansion-small-business-growth-conference/
LOCATION:NV
ATTACH;FMTTYPE=image/jpeg:https://nvgrow.org/wp-content/uploads/2023/11/BSC-V2.jpg
END:VEVENT
BEGIN:VEVENT
DTSTART;TZID=America/Los_Angeles:20231114T120000
DTEND;TZID=America/Los_Angeles:20231114T133000
DTSTAMP:20260420T181054
CREATED:20231110T172654Z
LAST-MODIFIED:20231110T172654Z
UID:1899-1699963200-1699968600@nvgrow.org
SUMMARY:International Business and Culture
DESCRIPTION:Business lunches can be a big part of American business culture; sometimes deals are closed before the bill even arrives! Attend this event to learn more about how business and mealtime mix overseas\, as well as some cultural dos and dont’s from around the world when you’re at the table.
URL:https://nvgrow.org/event/international-business-and-culture/
LOCATION:CSN North Las Vegas Campus Ballroom 126 and 128\, 3200 East Cheyenne Ave\, North Las Vegas\, NV\, 89030\, United States
CATEGORIES:Events
ATTACH;FMTTYPE=image/jpeg:https://nvgrow.org/wp-content/uploads/2023/11/international-business.jpg
END:VEVENT
BEGIN:VEVENT
DTSTART;TZID=America/Los_Angeles:20231104T140000
DTEND;TZID=America/Los_Angeles:20231104T170000
DTSTAMP:20260420T181054
CREATED:20231030T170854Z
LAST-MODIFIED:20231030T170854Z
UID:1887-1699106400-1699117200@nvgrow.org
SUMMARY:YES Business Pitch Competition
DESCRIPTION:The College of Southern Nevada will be hosting the Business Pitch Competition brought to you by the Y.E.S. program (Youth Entrepreneurial Success). Please visit the link to RSVP.
URL:https://nvgrow.org/event/yes-business-pitch-competition/
LOCATION:Tyrone Thompson Student Union\, 3200 E Cheyenne Ave\, North Las Vegas\, NV\, 89030\, United States
ATTACH;FMTTYPE=image/png:https://nvgrow.org/wp-content/uploads/2023/10/Unknown.png
END:VEVENT
BEGIN:VEVENT
DTSTART;TZID=America/Los_Angeles:20231101T090000
DTEND;TZID=America/Los_Angeles:20231101T140000
DTSTAMP:20260420T181054
CREATED:20231011T232057Z
LAST-MODIFIED:20231011T232057Z
UID:1866-1698829200-1698847200@nvgrow.org
SUMMARY:Cyber Summit 2023
DESCRIPTION:Attention\, small business owners! Safeguarding your business against cyber threats is no longer a luxury but a necessity. Join us at the SBA Cyber Summit\, where industry leaders\, experts\, and entrepreneurs converge to empower you with the knowledge and tools to protect your business from evolving digital risks. Get ready for an immersive experience that will transform the way you approach cybersecurity!
URL:https://nvgrow.org/event/cyber-summit-2023/
LOCATION:NV
CATEGORIES:Events
ATTACH;FMTTYPE=image/webp:https://nvgrow.org/wp-content/uploads/2023/10/cyber.webp
END:VEVENT
BEGIN:VEVENT
DTSTART;TZID=America/Los_Angeles:20231025T130000
DTEND;TZID=America/Los_Angeles:20231025T150000
DTSTAMP:20260420T181054
CREATED:20231009T180902Z
LAST-MODIFIED:20231009T180902Z
UID:1856-1698238800-1698246000@nvgrow.org
SUMMARY:Media Training 101
DESCRIPTION:Join us as Patranya Bhoolsuwan presents a free community workshop covering topics such as Understanding the Media\, On-Camera/Performance Coaching\, and so on. Please visit the link for more information.
URL:https://nvgrow.org/event/media-training-101-3/
LOCATION:College of Southern Nevada – North Las Vegas Campus Entrepreneurship Center\, 3200 East Cheyenne Avenue North Las Vegas\, NV 89030\, North Las Vegas\, 89030\, United States
CATEGORIES:Events
ATTACH;FMTTYPE=image/webp:https://nvgrow.org/wp-content/uploads/2023/03/slider.webp
END:VEVENT
BEGIN:VEVENT
DTSTART;TZID=America/Los_Angeles:20231025T090000
DTEND;TZID=America/Los_Angeles:20231025T140000
DTSTAMP:20260420T181054
CREATED:20231011T231934Z
LAST-MODIFIED:20231011T231939Z
UID:1863-1698224400-1698242400@nvgrow.org
SUMMARY:SBA Cyber Summit 2023
DESCRIPTION:Attention\, small business owners! Safeguarding your business against cyber threats is no longer a luxury but a necessity. Join us at the SBA Cyber Summit\, where industry leaders\, experts\, and entrepreneurs converge to empower you with the knowledge and tools to protect your business from evolving digital risks. Get ready for an immersive experience that will transform the way you approach cybersecurity!
URL:https://nvgrow.org/event/sba-cyber-summit-2023/
LOCATION:NV
CATEGORIES:Events
ATTACH;FMTTYPE=image/webp:https://nvgrow.org/wp-content/uploads/2023/10/cyber.webp
END:VEVENT
BEGIN:VEVENT
DTSTART;TZID=America/Los_Angeles:20231014T100000
DTEND;TZID=America/Los_Angeles:20231014T140000
DTSTAMP:20260420T181054
CREATED:20230929T073626Z
LAST-MODIFIED:20230929T073626Z
UID:1848-1697277600-1697292000@nvgrow.org
SUMMARY:International Dessert and Travel Day
DESCRIPTION:
URL:https://nvgrow.org/event/international-dessert-and-travel-day/
LOCATION:3431 S Jones Blvd #110 Las Vegas\, NV 89146\, 3431 S. Jones Blvd #110\, Las Vegas\, NV\, 89146\, United States
CATEGORIES:Events
ATTACH;FMTTYPE=image/jpeg:https://nvgrow.org/wp-content/uploads/2023/09/Dessert-and-travel-day-LV-BAKING-CO.-Instagram-Post-Square_20230923_100158_0000.jpg
END:VEVENT
BEGIN:VEVENT
DTSTART;TZID=America/Los_Angeles:20230928T130000
DTEND;TZID=America/Los_Angeles:20230928T150000
DTSTAMP:20260420T181054
CREATED:20230913T233935Z
LAST-MODIFIED:20230913T233935Z
UID:1826-1695906000-1695913200@nvgrow.org
SUMMARY:Media Training 101
DESCRIPTION:Join us as Patranya Bhoolsuwan presents a free community workshop covering topics such as Understanding the Media\, On-Camera/Performance Coaching\, and so on. Please visit the link for more information.
URL:https://nvgrow.org/event/media-training-101-2/
LOCATION:College of Southern Nevada – North Las Vegas Campus Entrepreneurship Center\, 3200 East Cheyenne Avenue North Las Vegas\, NV 89030\, North Las Vegas\, 89030\, United States
CATEGORIES:Events
ATTACH;FMTTYPE=image/webp:https://nvgrow.org/wp-content/uploads/2023/09/sept-media-training-copy-scaled.webp
END:VEVENT
BEGIN:VEVENT
DTSTART;TZID=America/Los_Angeles:20230905T110000
DTEND;TZID=America/Los_Angeles:20230905T140000
DTSTAMP:20260420T181054
CREATED:20230824T204512Z
LAST-MODIFIED:20230825T162739Z
UID:1615-1693911600-1693922400@nvgrow.org
SUMMARY:CSN Blackstone LaunchPad Entrepreneurship Center Ribbon-Cutting Ceremony
DESCRIPTION:Come and enjoy light hors d’oeuvres\, witness the ribbon-cutting ceremony\, explore our NV Grow Small Business Expo\, and be a part of a significant announcement regarding the $3 Million MBDA Capital Readiness Program Award.
URL:https://nvgrow.org/event/entrepreneurship-center-ribbon-cutting-and-small-business-expo/
LOCATION:CSN North Las Vegas Campus\, 3200 East Cheyenne Avenue\, North Las Vegas\, NV\, 89030\, United States
ATTACH;FMTTYPE=application/pdf:https://nvgrow.org/wp-content/uploads/2023/08/EC-Ribbon-Cutting-September-5th-1.pdf
END:VEVENT
BEGIN:VEVENT
DTSTART;VALUE=DATE:20230814
DTEND;VALUE=DATE:20230829
DTSTAMP:20260420T181054
CREATED:20230814T215721Z
LAST-MODIFIED:20230814T215805Z
UID:1601-1691971200-1693267199@nvgrow.org
SUMMARY:AAPI Strong Restaurant Fund
DESCRIPTION:National ACE Opens Applications for the AAPISTRONG Restaurant Fund in Partnership with Grubhub to Help with the Growth and Expansion of AAPI-owned Restaurants  \nIndependent restaurants across the country can apply for a grant up to $50\,000 through the AAPISTRONG Restaurant Fund made possible by the Grubhub Community Fund. \nFrom August 14 to August 28\, 2023 or when we reach 2\,000 applicants\, whichever comes first\, the AAPISTRONGRestaurant Fund will accept grant applications from all AAPI-owned restaurants throughout the United States. \nPlease click the link for more information.
URL:https://nvgrow.org/event/aapi-strong-restaurant-fund/
LOCATION:NV
CATEGORIES:Events
ATTACH;FMTTYPE=image/webp:https://nvgrow.org/wp-content/uploads/2023/08/AAPI.webp
END:VEVENT
BEGIN:VEVENT
DTSTART;TZID=America/Los_Angeles:20230805T090000
DTEND;TZID=America/Los_Angeles:20230805T110000
DTSTAMP:20260420T181054
CREATED:20230726T165022Z
LAST-MODIFIED:20230726T165022Z
UID:1592-1691226000-1691233200@nvgrow.org
SUMMARY:Y.E.S. Youth Entrepreneurial Success Informational
DESCRIPTION:Discover your entrepreneurial capabilities and establish an entrepreneurial mindset in this informational event\, free of charge. Come join us on Saturday\, August 5 from 9AM to 11AM PST at the Historic Westside School located at 330 W. Washington Ave. Please RSVP on the website here: https://tinyurl.com/4u6u2vhr
URL:https://nvgrow.org/event/y-e-s-youth-entrepreneurial-success-informational/
LOCATION:Historic Westside School\, 330 W Washington Ave\, Las Vegas\, NV\, 89106\, United States
CATEGORIES:Events
ATTACH;FMTTYPE=image/png:https://nvgrow.org/wp-content/uploads/2023/07/YES-Informational-FB.png
END:VEVENT
BEGIN:VEVENT
DTSTART;TZID=America/Los_Angeles:20230725T130000
DTEND;TZID=America/Los_Angeles:20230725T150000
DTSTAMP:20260420T181054
CREATED:20230712T170543Z
LAST-MODIFIED:20230712T170543Z
UID:1589-1690290000-1690297200@nvgrow.org
SUMMARY:
DESCRIPTION:Understand the media\, how to practice on-camera interviews\, relaxation techniques and more hosted by Patranya Bhoolsuwan. More information regarding this event can be found here.
URL:https://nvgrow.org/event/1589/
LOCATION:College of Southern Nevada – North Las Vegas Campus Entrepreneurship Center\, 3200 East Cheyenne Avenue North Las Vegas\, NV 89030\, North Las Vegas\, 89030\, United States
ATTACH;FMTTYPE=image/webp:https://nvgrow.org/wp-content/uploads/2023/03/slider-2.webp
END:VEVENT
BEGIN:VEVENT
DTSTART;TZID=America/Los_Angeles:20230628T130000
DTEND;TZID=America/Los_Angeles:20230628T150000
DTSTAMP:20260420T181054
CREATED:20230511T050232Z
LAST-MODIFIED:20230511T050417Z
UID:1496-1687957200-1687964400@nvgrow.org
SUMMARY:Media Training 101
DESCRIPTION:Understand the media\, how to practice on-camera interviews\, relaxation techniques and more hosted by Patranya Bhoolsuwan. More information regarding this event can be found here.
URL:https://nvgrow.org/event/1496/
LOCATION:College of Southern Nevada – North Las Vegas Campus Entrepreneurship Center\, 3200 East Cheyenne Avenue North Las Vegas\, NV 89030\, North Las Vegas\, 89030\, United States
ATTACH;FMTTYPE=image/webp:https://nvgrow.org/wp-content/uploads/2023/03/slider-2.webp
END:VEVENT
BEGIN:VEVENT
DTSTART;TZID=America/Los_Angeles:20230622T150000
DTEND;TZID=America/Los_Angeles:20230622T170000
DTSTAMP:20260420T181054
CREATED:20230616T014812Z
LAST-MODIFIED:20230616T014941Z
UID:1561-1687446000-1687453200@nvgrow.org
SUMMARY:Small Business Finance for Funding Opportunity
DESCRIPTION:What will be covered in this workshop: \n\nBusiness Credit\nLoan\nLine of Credit\nGrants\nAsset Capital Lending\nWorking Capital\n\nThis event will take place on Thursday\, June 22\, 2023. RSVP here.
URL:https://nvgrow.org/event/small-business-finance-for-funding-opportunity/
LOCATION:College of Southern Nevada – North Las Vegas Campus Entrepreneurship Center\, 3200 East Cheyenne Avenue North Las Vegas\, NV 89030\, North Las Vegas\, 89030\, United States
ATTACH;FMTTYPE=image/webp:https://nvgrow.org/wp-content/uploads/2023/03/slider-lydia-v2.webp
END:VEVENT
BEGIN:VEVENT
DTSTART;TZID=America/Los_Angeles:20230601T150000
DTEND;TZID=America/Los_Angeles:20230601T170000
DTSTAMP:20260420T181054
CREATED:20230511T050125Z
LAST-MODIFIED:20230511T050125Z
UID:1493-1685631600-1685638800@nvgrow.org
SUMMARY:Create a Sales Plan
DESCRIPTION:Kim Dung Ho shares techniques on how to book clients\, sell your services\, and build a solid pricing structure.
URL:https://nvgrow.org/event/create-a-sales-plan/
LOCATION:College of Southern Nevada – North Las Vegas Campus Entrepreneurship Center\, 3200 East Cheyenne Avenue North Las Vegas\, NV 89030\, North Las Vegas\, 89030\, United States
ATTACH;FMTTYPE=image/webp:https://nvgrow.org/wp-content/uploads/2023/03/slider-3.webp
END:VEVENT
BEGIN:VEVENT
DTSTART;TZID=America/Los_Angeles:20230525T130000
DTEND;TZID=America/Los_Angeles:20230525T150000
DTSTAMP:20260420T181054
CREATED:20230419T002905Z
LAST-MODIFIED:20230511T045955Z
UID:1408-1685019600-1685026800@nvgrow.org
SUMMARY:Media Training 101
DESCRIPTION:Understand the media\, how to practice on-camera interviews\, relaxation techniques and more hosted by Patranya Bhoolsuwan. More information regarding this event can be found here.
URL:https://nvgrow.org/event/media-training-101/
LOCATION:College of Southern Nevada – North Las Vegas Campus Entrepreneurship Center\, 3200 East Cheyenne Avenue North Las Vegas\, NV 89030\, North Las Vegas\, 89030\, United States
ATTACH;FMTTYPE=image/webp:https://nvgrow.org/wp-content/uploads/2023/03/slider-2.webp
END:VEVENT
BEGIN:VEVENT
DTSTART;TZID=America/Los_Angeles:20230524T150000
DTEND;TZID=America/Los_Angeles:20230524T170000
DTSTAMP:20260420T181054
CREATED:20230511T045658Z
LAST-MODIFIED:20230511T045755Z
UID:1487-1684940400-1684947600@nvgrow.org
SUMMARY:Small Business Finance
DESCRIPTION:Join us as Lydia High shares information on Small Business Finance. Here are some topics that will be covered during this time: \n\nBusiness Credit\nLoan\nLine of Credit\nGrant\nAsset Capital Lending\nWorking Capital
URL:https://nvgrow.org/event/small-business-finance/
LOCATION:College of Southern Nevada – North Las Vegas Campus Entrepreneurship Center\, 3200 East Cheyenne Avenue North Las Vegas\, NV 89030\, North Las Vegas\, 89030\, United States
ATTACH;FMTTYPE=image/webp:https://nvgrow.org/wp-content/uploads/2023/03/slider-lydia-v2.webp
END:VEVENT
BEGIN:VEVENT
DTSTART;TZID=America/Los_Angeles:20230512T150000
DTEND;TZID=America/Los_Angeles:20230512T170000
DTSTAMP:20260420T181054
CREATED:20230511T045416Z
LAST-MODIFIED:20230511T045524Z
UID:1485-1683903600-1683910800@nvgrow.org
SUMMARY:Headshot Marketing
DESCRIPTION:Create a marketing plan for your headshot photography business led by Kim Dung Ho
URL:https://nvgrow.org/event/headshot-marketing/
LOCATION:College of Southern Nevada – North Las Vegas Campus Entrepreneurship Center\, 3200 East Cheyenne Avenue North Las Vegas\, NV 89030\, North Las Vegas\, 89030\, United States
ATTACH;FMTTYPE=image/jpeg:https://nvgrow.org/wp-content/uploads/2023/04/1DSC02755.jpg
END:VEVENT
END:VCALENDAR