BEGIN:VCALENDAR
VERSION:2.0
PRODID:-//NV Grow - ECPv6.15.20//NONSGML v1.0//EN
CALSCALE:GREGORIAN
METHOD:PUBLISH
X-WR-CALNAME:NV Grow
X-ORIGINAL-URL:https://nvgrow.org
X-WR-CALDESC:Events for NV Grow
REFRESH-INTERVAL;VALUE=DURATION:PT1H
X-Robots-Tag:noindex
X-PUBLISHED-TTL:PT1H
BEGIN:VTIMEZONE
TZID:UTC
BEGIN:STANDARD
TZOFFSETFROM:+0000
TZOFFSETTO:+0000
TZNAME:UTC
DTSTART:20200101T000000
END:STANDARD
END:VTIMEZONE
BEGIN:VEVENT
DTSTART;TZID=UTC:20210919T150000
DTEND;TZID=UTC:20210919T190000
DTSTAMP:20260420T213324
CREATED:20210910T124755Z
LAST-MODIFIED:20210910T125622Z
UID:417-1632063600-1632078000@nvgrow.org
SUMMARY:Moon Festival - Tet Trung Thu 2021
DESCRIPTION:
URL:https://nvgrow.org/event/moon-festival-tet-trung-thu-2021/
LOCATION:Wet & Wild\, 7055 S. Fort Apache Rd.\, Las Vegas\, NV\, 89148\, United States
ATTACH;FMTTYPE=image/jpeg:https://nvgrow.org/wp-content/uploads/2021/09/moon-festival2.jpg
END:VEVENT
BEGIN:VEVENT
DTSTART;TZID=UTC:20210811T100000
DTEND;TZID=UTC:20210811T100000
DTSTAMP:20260420T213324
CREATED:20210807T013931Z
LAST-MODIFIED:20210807T050055Z
UID:273-1628676000-1628676000@nvgrow.org
SUMMARY:PPP Direct Forgiveness Portal
DESCRIPTION:Join the Nevada SBA for an Overview of the PPP Direct Forgiveness Portal on Wednesday\, August 11 at 10:00am Pacific Time.  \nGet Your Questions Answered! \nJoin the SBA Nevada District Office on Wednesday\, August 11\, 2021 at 10:00am (PST) to learn about the Paycheck Protection Direct Forgiveness Portal. \nClick Here to Join (No Registration Required) \nDirect Forgiveness Summary \nOver 700 banks are participating in the direct forgiveness portal\, enabling over 2.17mm borrowers to apply through the portal (This represents over 30% of loans $150\,000 or less that have not yet submitted for forgiveness)
URL:https://nvgrow.org/event/ppp-direct-forgiveness-portal/
CATEGORIES:Events
END:VEVENT
BEGIN:VEVENT
DTSTART;TZID=UTC:20210809T150000
DTEND;TZID=UTC:20210809T170000
DTSTAMP:20260420T213324
CREATED:20210803T052714Z
LAST-MODIFIED:20210807T050055Z
UID:58-1628521200-1628528400@nvgrow.org
SUMMARY:Viet Nevada Culture Ribbon Cutting Ceremony
DESCRIPTION:Please join us for the ribbon-cutting ceremony taking place at Viet Noodle Bar Restaurant in the heart of Spring Mountain.
URL:https://nvgrow.org/event/viet-nevada-culture-ribbon-cutting-ceremony/
LOCATION:Viet Noodle Bar Restaurant\, 5288 Spring Mountain Rd\, Las Vegas\, NV\, 89146\, United States
CATEGORIES:Events
ATTACH;FMTTYPE=image/jpeg:https://nvgrow.org/wp-content/uploads/2021/08/ribbon-cutting.jpg
END:VEVENT
BEGIN:VEVENT
DTSTART;VALUE=DATE:20210809
DTEND;VALUE=DATE:20210816
DTSTAMP:20260420T213324
CREATED:20210807T014315Z
LAST-MODIFIED:20210807T050055Z
UID:277-1628467200-1629071999@nvgrow.org
SUMMARY:US DEPARTMENT OF LABOR KICKS OFF NATIONAL SAFE + SOUND WEEK
DESCRIPTION:Weeklong event recognizes effective workplace safety\, health programs \nWASHINGTON\, DC – The U.S. Department of Labor encourages the nation’s employers to commit to workplace safety and health and join its Occupational Safety and Health Administration in observing Safe + Sound Week\, Aug. 9-15\, 2021. \nA nationwide event that recognizes the successes of workplace safety and health programs\, Safe + Sound Week also offers information and ideas on how to keep America’s workers safe. \nParticipating in Safe + Sound Week is simple. Organizations of any size or in any industry looking for an opportunity to show their commitment to safety can participate. Visit the Safe + Sound website for more information\, resources and tools to help plan and promote safety events. \nLearn more about OSHA. \nTo READ more\, visit: https://www.dol.gov/newsroom/releases/osha/osha20210805
URL:https://nvgrow.org/event/us-department-of-labor-kicks-off-national-safe-sound-week/
CATEGORIES:Events
END:VEVENT
END:VCALENDAR