BEGIN:VCALENDAR
VERSION:2.0
PRODID:-//NV Grow - ECPv6.15.20//NONSGML v1.0//EN
CALSCALE:GREGORIAN
METHOD:PUBLISH
X-WR-CALNAME:NV Grow
X-ORIGINAL-URL:https://nvgrow.org
X-WR-CALDESC:Events for NV Grow
REFRESH-INTERVAL;VALUE=DURATION:PT1H
X-Robots-Tag:noindex
X-PUBLISHED-TTL:PT1H
BEGIN:VTIMEZONE
TZID:America/Los_Angeles
BEGIN:DAYLIGHT
TZOFFSETFROM:-0800
TZOFFSETTO:-0700
TZNAME:PDT
DTSTART:20210314T100000
END:DAYLIGHT
BEGIN:STANDARD
TZOFFSETFROM:-0700
TZOFFSETTO:-0800
TZNAME:PST
DTSTART:20211107T090000
END:STANDARD
BEGIN:DAYLIGHT
TZOFFSETFROM:-0800
TZOFFSETTO:-0700
TZNAME:PDT
DTSTART:20220313T100000
END:DAYLIGHT
BEGIN:STANDARD
TZOFFSETFROM:-0700
TZOFFSETTO:-0800
TZNAME:PST
DTSTART:20221106T090000
END:STANDARD
BEGIN:DAYLIGHT
TZOFFSETFROM:-0800
TZOFFSETTO:-0700
TZNAME:PDT
DTSTART:20230312T100000
END:DAYLIGHT
BEGIN:STANDARD
TZOFFSETFROM:-0700
TZOFFSETTO:-0800
TZNAME:PST
DTSTART:20231105T090000
END:STANDARD
END:VTIMEZONE
BEGIN:VEVENT
DTSTART;TZID=America/Los_Angeles:20220501T080000
DTEND;TZID=America/Los_Angeles:20220501T130000
DTSTAMP:20260423T123310
CREATED:20220429T165304Z
LAST-MODIFIED:20220429T165514Z
UID:981-1651392000-1651410000@nvgrow.org
SUMMARY:RUN for Rice & WALK for Wellness\, Sunday\, May 1st
DESCRIPTION:WHEN: Sunday\, May 1\, 2022 \nTIME: 8AM – 1PM \nWHERE: CSN Charleston Campus (6375 W. Charleston Bldv\, LV\, NV 89146) \nREGISTRATION is needed!
URL:https://nvgrow.org/event/run-for-rice-walk-for-wellness-sunday-may-1st/
ATTACH;FMTTYPE=image/png:https://nvgrow.org/wp-content/uploads/2022/04/Run-for-Rice-Walk-for-Wellness-2022-Flyer-Instagram-Post-1.png
END:VEVENT
BEGIN:VEVENT
DTSTART;TZID=America/Los_Angeles:20220507T100000
DTEND;TZID=America/Los_Angeles:20220507T130000
DTSTAMP:20260423T123310
CREATED:20220504T173615Z
LAST-MODIFIED:20220504T173943Z
UID:994-1651917600-1651928400@nvgrow.org
SUMMARY:GraduAsian Ceremony 2022
DESCRIPTION:There will also be a job fair with some amazing companies and also a medal ceremony for all the API college graduates. \nSIGN UP AT https://bit.ly/graduasian2022
URL:https://nvgrow.org/event/graduasian-ceremony-2022/
CATEGORIES:Events
ATTACH;FMTTYPE=image/png:https://nvgrow.org/wp-content/uploads/2022/05/GraduAsian-5.7.22-2.png
END:VEVENT
BEGIN:VEVENT
DTSTART;TZID=America/Los_Angeles:20220528T120000
DTEND;TZID=America/Los_Angeles:20220528T140000
DTSTAMP:20260423T123310
CREATED:20220506T163704Z
LAST-MODIFIED:20220506T163704Z
UID:1026-1653739200-1653746400@nvgrow.org
SUMMARY:Serenade with Eli Milan & Rich Mann at Downtown Fergusons
DESCRIPTION:WHEN: May 28th @ 12PM-2PM \nWHERE: Downtown Fergusons\, 1028 Fremont St
URL:https://nvgrow.org/event/serenade-with-eli-milan-rich-mann-at-downtown-fergusons/
LOCATION:Downtown Fergusons\, 1028 Fremont Street\, Las Vegas\, NV\, United States
ATTACH;FMTTYPE=image/jpeg:https://nvgrow.org/wp-content/uploads/2022/05/Yellow-Guitarist-Concert-Program-Gabriel-Interrante.jpg
END:VEVENT
END:VCALENDAR