BEGIN:VCALENDAR
VERSION:2.0
PRODID:-//NV Grow - ECPv6.15.20//NONSGML v1.0//EN
CALSCALE:GREGORIAN
METHOD:PUBLISH
X-ORIGINAL-URL:https://nvgrow.org
X-WR-CALDESC:Events for NV Grow
REFRESH-INTERVAL;VALUE=DURATION:PT1H
X-Robots-Tag:noindex
X-PUBLISHED-TTL:PT1H
BEGIN:VTIMEZONE
TZID:America/Los_Angeles
BEGIN:DAYLIGHT
TZOFFSETFROM:-0800
TZOFFSETTO:-0700
TZNAME:PDT
DTSTART:20230312T100000
END:DAYLIGHT
BEGIN:STANDARD
TZOFFSETFROM:-0700
TZOFFSETTO:-0800
TZNAME:PST
DTSTART:20231105T090000
END:STANDARD
BEGIN:DAYLIGHT
TZOFFSETFROM:-0800
TZOFFSETTO:-0700
TZNAME:PDT
DTSTART:20240310T100000
END:DAYLIGHT
BEGIN:STANDARD
TZOFFSETFROM:-0700
TZOFFSETTO:-0800
TZNAME:PST
DTSTART:20241103T090000
END:STANDARD
BEGIN:DAYLIGHT
TZOFFSETFROM:-0800
TZOFFSETTO:-0700
TZNAME:PDT
DTSTART:20250309T100000
END:DAYLIGHT
BEGIN:STANDARD
TZOFFSETFROM:-0700
TZOFFSETTO:-0800
TZNAME:PST
DTSTART:20251102T090000
END:STANDARD
END:VTIMEZONE
BEGIN:VEVENT
DTSTART;TZID=America/Los_Angeles:20241219T150000
DTEND;TZID=America/Los_Angeles:20241219T163000
DTSTAMP:20260421T082356
CREATED:20241119T191143Z
LAST-MODIFIED:20241125T184632Z
UID:2264-1734620400-1734625800@nvgrow.org
SUMMARY:Federal Tax Essentials with the IRS - Lesson 1
DESCRIPTION:Lesson 1: Federal Taxes and Your New Business  \n·           Employer Identification Number \n·           Recordkeeping \n·           Bookkeeping systems \n·           Accounting Methods \n·           Types of Business Structures \n·           Sole Proprietorship \n·           Partnership \n·           Corporation \n·           S Corporation \n·           Limited Liability Company \n·           Sharing or Gig Economy \n·           Choosing a paid preparer \nRegister here: https://sbed.ecenterdirect.com/events/1019099
URL:https://nvgrow.org/event/federal-tax-essentials-with-the-irs-lesson-1/
CATEGORIES:Events
ATTACH;FMTTYPE=image/webp:https://nvgrow.org/wp-content/uploads/2024/11/tax-v2.webp
END:VEVENT
END:VCALENDAR