BEGIN:VCALENDAR
VERSION:2.0
PRODID:-//NV Grow - ECPv6.15.20//NONSGML v1.0//EN
CALSCALE:GREGORIAN
METHOD:PUBLISH
X-ORIGINAL-URL:https://nvgrow.org
X-WR-CALDESC:Events for NV Grow
REFRESH-INTERVAL;VALUE=DURATION:PT1H
X-Robots-Tag:noindex
X-PUBLISHED-TTL:PT1H
BEGIN:VTIMEZONE
TZID:America/Los_Angeles
BEGIN:DAYLIGHT
TZOFFSETFROM:-0800
TZOFFSETTO:-0700
TZNAME:PDT
DTSTART:20240310T100000
END:DAYLIGHT
BEGIN:STANDARD
TZOFFSETFROM:-0700
TZOFFSETTO:-0800
TZNAME:PST
DTSTART:20241103T090000
END:STANDARD
BEGIN:DAYLIGHT
TZOFFSETFROM:-0800
TZOFFSETTO:-0700
TZNAME:PDT
DTSTART:20250309T100000
END:DAYLIGHT
BEGIN:STANDARD
TZOFFSETFROM:-0700
TZOFFSETTO:-0800
TZNAME:PST
DTSTART:20251102T090000
END:STANDARD
BEGIN:DAYLIGHT
TZOFFSETFROM:-0800
TZOFFSETTO:-0700
TZNAME:PDT
DTSTART:20260308T100000
END:DAYLIGHT
BEGIN:STANDARD
TZOFFSETFROM:-0700
TZOFFSETTO:-0800
TZNAME:PST
DTSTART:20261101T090000
END:STANDARD
END:VTIMEZONE
BEGIN:VEVENT
DTSTART;TZID=America/Los_Angeles:20250206T150000
DTEND;TZID=America/Los_Angeles:20250206T163000
DTSTAMP:20260421T051500
CREATED:20241119T191932Z
LAST-MODIFIED:20241125T220630Z
UID:2275-1738854000-1738859400@nvgrow.org
SUMMARY:Federal Tax Essentials with the IRS - Lesson 6
DESCRIPTION:Lesson 6: Managing Payroll to Withhold the Correct Amount of Taxes \n·           Wages and Calculating Payroll \n·           Calculating Payroll \n·           Calculating Payroll: Tips \n·           Allocated Tips \n·           Tip Rate and Education Program \n·           Calculating Payroll: Non-Profits \n·           Calculating Payroll: Farm workers \n·           Calculating Withholding \n·           Calculating Withholding: Wage Bracket Method \n·           Calculating Withholding: Percentage Method \n·           Other Withholding – Social Security\, Medicare\, and Additional Medicare Taxes \n·           Additional Medicare Tax Withholding \n·           Taxes on Employee Tips \n·           Tax on Employee Tips – Withholding \n·           Federal Unemployment Tax Act (FUTA) \n·           FUTA Tax – Household Workers \n·           Calculating FUTA Tax \n·           FUTA Tax Example \n·           Employer’s Federal Unemployment Tax Return \n·           FUTA Tax- Farm Workers \nRegister here: https://sbed.ecenterdirect.com/events/1019104
URL:https://nvgrow.org/event/federal-tax-essentials-with-the-irs-lesson-6/
CATEGORIES:Events
ATTACH;FMTTYPE=image/webp:https://nvgrow.org/wp-content/uploads/2024/11/tax-v2.webp
END:VEVENT
BEGIN:VEVENT
DTSTART;TZID=America/Los_Angeles:20250213T100000
DTEND;TZID=America/Los_Angeles:20250213T120000
DTSTAMP:20260421T051500
CREATED:20250106T212119Z
LAST-MODIFIED:20250106T213628Z
UID:2320-1739440800-1739448000@nvgrow.org
SUMMARY:Media Training - February 2025
DESCRIPTION:WHAT WILL BE COVERED IN THIS WORKSHOP? \n\n\nUNDERSTANDING THE MEDIA\nON-CAMERA/PERFORMANCE COACHING\nRELAXATION TECHNIQUES\nMOCK INTERVIEWS\nHANDLING CRISIS & TOUGH QUESTIONS BY REPORTERS\nON-AIR STYLING & WARDROBE TIPS\n\nRegistration Link: https://sbed.ecenterdirect.com/events/1019107 \nContact Person: Gabriel Interrante \nContact Person Email: Gabriel.interrante@csn.edu
URL:https://nvgrow.org/event/media-training-2/
LOCATION:CSN North Las Vegas Campus\, 3200 East Cheyenne Avenue\, North Las Vegas\, NV\, 89030\, United States
CATEGORIES:Events
ATTACH;FMTTYPE=image/jpeg:https://nvgrow.org/wp-content/uploads/2025/01/Blackstone-Workshop-Flyer-6-scaled.jpg
END:VEVENT
BEGIN:VEVENT
DTSTART;TZID=America/Los_Angeles:20250213T150000
DTEND;TZID=America/Los_Angeles:20250213T163000
DTSTAMP:20260421T051500
CREATED:20241119T192038Z
LAST-MODIFIED:20241125T184736Z
UID:2277-1739458800-1739464200@nvgrow.org
SUMMARY:Federal Tax Essentials with the IRS - Lesson 7
DESCRIPTION:Lesson 7: Tax Deposits and Filing a Return to Report Payroll Taxes \n·           Making tax deposits \n·           Deposit Due Dates \n·           Determining Deposit Schedule – Using Lookback Period \n·           Monthly Depositor \n·           Semiweekly Depositor \n·           $100K Next-Day Deposit Rule \n·           Late Deposit Penalties \n·           Electronic fund transfer for federal tax deposits \n·           Reporting Payroll Taxes \n·           Completing Form 941 \n·           Wage Base \n·           Penalties and Interest \n·           Benefits of e-file \n·           Outsourcing Payroll Duties \nRegister here: https://sbed.ecenterdirect.com/events/1019105
URL:https://nvgrow.org/event/federal-tax-essentials-with-the-irs-lesson-7/
CATEGORIES:Events
ATTACH;FMTTYPE=image/webp:https://nvgrow.org/wp-content/uploads/2024/11/tax-v2.webp
END:VEVENT
BEGIN:VEVENT
DTSTART;TZID=America/Los_Angeles:20250220T150000
DTEND;TZID=America/Los_Angeles:20250220T163000
DTSTAMP:20260421T051500
CREATED:20241119T192250Z
LAST-MODIFIED:20241125T184745Z
UID:2279-1740063600-1740069000@nvgrow.org
SUMMARY:Federal Tax Essentials with the IRS - Lesson 8
DESCRIPTION:Lesson 8: Hiring People who Live in the U.S. who Aren’t Citizens \n·         Determining a worker’s tax status \n·         Individual Tax Identification Number (ITIN) \n·         Work Eligibility \n·         Resident Alien \n·         Nonresident Alien \n·         Calculating withholding \n·         Exception to General Rules for Withholding \n·         Employment taxes \n·         Nonresident alien independent contractors \n·         Filing employment tax returns \nRegister here: https://sbed.ecenterdirect.com/events/1019106
URL:https://nvgrow.org/event/federal-tax-essentials-with-the-irs-lesson-8/
CATEGORIES:Events
ATTACH;FMTTYPE=image/webp:https://nvgrow.org/wp-content/uploads/2024/11/tax-v2.webp
END:VEVENT
BEGIN:VEVENT
DTSTART;TZID=America/Los_Angeles:20250225T140000
DTEND;TZID=America/Los_Angeles:20250225T153000
DTSTAMP:20260421T051500
CREATED:20250131T010059Z
LAST-MODIFIED:20250131T012112Z
UID:2336-1740492000-1740497400@nvgrow.org
SUMMARY:Power of Capital with Chase Business Banking
DESCRIPTION:Power of Capital: Think strategically about cash flow. Does your business need to borrow? What financial data is important? SBA loan programs. \nRegister Here: \nhttps://sbed.ecenterdirect.com/events/1019109 \nPoint of Contact: Gabriel Interrante \nGabriel.interrante@csn.edu
URL:https://nvgrow.org/event/power-of-capital-with-chase-business-banking/
LOCATION:College of Southern Nevada – North Las Vegas Campus Entrepreneurship Center\, 3200 East Cheyenne Avenue North Las Vegas\, NV 89030\, North Las Vegas\, 89030\, United States
CATEGORIES:Events
ATTACH;FMTTYPE=image/jpeg:https://nvgrow.org/wp-content/uploads/2025/01/5.jpg
END:VEVENT
END:VCALENDAR