BEGIN:VCALENDAR
VERSION:2.0
PRODID:-//NV Grow - ECPv6.15.20//NONSGML v1.0//EN
CALSCALE:GREGORIAN
METHOD:PUBLISH
X-ORIGINAL-URL:https://nvgrow.org
X-WR-CALDESC:Events for NV Grow
REFRESH-INTERVAL;VALUE=DURATION:PT1H
X-Robots-Tag:noindex
X-PUBLISHED-TTL:PT1H
BEGIN:VTIMEZONE
TZID:America/Los_Angeles
BEGIN:DAYLIGHT
TZOFFSETFROM:-0800
TZOFFSETTO:-0700
TZNAME:PDT
DTSTART:20250309T100000
END:DAYLIGHT
BEGIN:STANDARD
TZOFFSETFROM:-0700
TZOFFSETTO:-0800
TZNAME:PST
DTSTART:20251102T090000
END:STANDARD
BEGIN:DAYLIGHT
TZOFFSETFROM:-0800
TZOFFSETTO:-0700
TZNAME:PDT
DTSTART:20260308T100000
END:DAYLIGHT
BEGIN:STANDARD
TZOFFSETFROM:-0700
TZOFFSETTO:-0800
TZNAME:PST
DTSTART:20261101T090000
END:STANDARD
BEGIN:DAYLIGHT
TZOFFSETFROM:-0800
TZOFFSETTO:-0700
TZNAME:PDT
DTSTART:20270314T100000
END:DAYLIGHT
BEGIN:STANDARD
TZOFFSETFROM:-0700
TZOFFSETTO:-0800
TZNAME:PST
DTSTART:20271107T090000
END:STANDARD
END:VTIMEZONE
BEGIN:VEVENT
DTSTART;TZID=America/Los_Angeles:20260311T173000
DTEND;TZID=America/Los_Angeles:20260311T190000
DTSTAMP:20260420T122739
CREATED:20260131T235633Z
LAST-MODIFIED:20260312T004651Z
UID:3342-1773250200-1773255600@nvgrow.org
SUMMARY:Maximize Your VA Benefits | Registration Closed
DESCRIPTION:Date: 3/11/2026\nTime: 5:30 PM – 7:00 PM (PDT)\nStatus: Closed\nRegistration Deadline: 3/11/2026 at 5:00 PM (PDT)\nFee: No Fee \nWorkshop Topics Include: \n\n\nVA Disability Compensation\nEducation Benefits\nVA Healthcare\nVA Home Loans\nLearn the process\n\n\nSign in to the event here \n\nPoint of Contact: NV Grow Staff\nEmail: nvgrow@csn.edu
URL:https://nvgrow.org/event/maximize-your-va-benefits/
LOCATION:College of Southern Nevada – North Las Vegas Campus Entrepreneurship Center\, 3200 East Cheyenne Avenue North Las Vegas\, NV 89030\, North Las Vegas\, 89030\, United States
CATEGORIES:Events
ATTACH;FMTTYPE=image/png:https://nvgrow.org/wp-content/uploads/2026/01/Maximize-Your-VA-Benefits-Flyer-v2.png
END:VEVENT
END:VCALENDAR